Workbook

Sheet Ohje työkirjan käyttöön
A1: OHJEET KASSAVIRTALASKELMAN KÄYTTÖÖN
A3: Mitä laskelmalla voi tehdä?
A4: Kassavirtalaskelma-välilehden avulla voi arvioida suunnitellun liiketoiminnan kassavirtaa ja kannattavuutta 24 vuoden tarkastelujaksolla.
A5: Laskentapohjassa on valmiina Pajuarvoketjuista uutta liiketoimintaa -hankkeessa laadittu esimerkkilaskelma liiketoimintamallista, jossa toimija viljelee pajua ja valmistaa siitä tuoretta pajuhaketta myytäväksi kestokuivikkeena. Laskentapohjaa voi muokata oman suunnitellun liiketoiminnan tarkasteluun.
A7: Mistä lähtötiedot löytyvät?
A8: Esimerkkilaskelmassa käytettyjä kustannus- ja tuottotietoja sekä niiden lähteitä on koottu välilehdille Lähtötiedot_kustannukset ja Lähtötiedot_tuotot. Kassavirtalaskelman kaavat hakevat tietoja näiltä välilehdiltä.
A10: Miten laskelmaa voi muokata?
A11: Laskelmaa voi muokata omaan suunniteltuun liiketoimintaan sopivaksi kahdella tavalla:
A12: Lähtötietoja muuttamalla: Esimerkkilaskelmassa käytettyjä kustannus- ja tuottotietoja voi muuttaa Lähtötiedot_kustannukset- ja Lähtötiedot_tuotot -välilehdillä. Kassavirtalaskelman kaavat hakevat muuttuneet tiedot näiltä välilehdiltä.
A13: Muokkaamalla kassavirtataulukkoa suoraan: Kustannus- ja tuottoeriä voi lisätä, poistaa tai muuttaa suoraan Kassavirta_kuivike-välilehdellä omaa liiketoimintaa vastaaviksi. Huomaa, että solussa oleva kaava poistuu, jos sen päälle kirjoitetaan uusi arvo.
A14: Osa laskentapohjan soluista on suojattu, jotta NPV:n, IRR:n ja takaisinmaksuajan laskentakaavat eivät muokkaudu vahingossa. Suojauksen voi tarvittaessa poistaa Excelissä. Suojauksen salasana on Pauli.
A15: Laskentapohjasta kannattaa tallentaa oma kopio ennen kaavojen tai taulukon rakenteen muuttamista.
... A27: Laskentapohja on tarkoitettu alustavien taloudellisten tarkastelujen tekemiseen. Tulokset riippuvat käytetyistä lähtöoletuksista, kuten kustannuksista, tuotantomääristä, myyntihinnoista ja niiden ajoittumisesta. Esimerkkilaskelman tulokset eivät sellaisenaan kuvaa yksittäisen yrityksen toteutuvan liiketoiminnan kannattavuutta, vaan tarkempi arviointi edellyttää tapauskohtaisten lähtötietojen käyttämistä.

Sheet Kassavirta_kuivike
A1: KASSAVIRTALASKELMA PAJUHAKETTA KESTOKUIVIKKEEKSI
A2: HUOM! Laskelmassa 100 ha pajuviljelmä perustetaan vaiheittain siten, että joka vuosi perustetaan 25 ha viljelmä ensimmäisen neljän vuoden aikana. Ensimmäisen neljän viljelyvuoden jälkeen joka vuosi korjataan sato 25 hehtaarilta, jolloin kasvusto on neljävuotias.
A4: Diskonttokorko | B4: 0.05 | C4: (voi muuttaa oman tuottovaatimuksen/pääoman kustannuksen mukaiseksi)
A7: KASSAVIRTALASKELMAN TULOKSET
A8: NPV eli nettonykyarvo | B8: =NPV(B4,C45:Y45)+B45 -> 64996.069
A9: IRR eli sisäinen korkokanta eli tuottoprosentti | B9: =IRR(B45:Y45) -> 0.065959562
A10: Takaisinmaksuaika | B10: {=MATCH(TRUE,B53:Y53>0,0)-1} -> 18 | C10: vuotta
A12: Kassavirtalaskentataulukko
B13: Vuosi
A14: Vaiheet viljelyn aikana | B14: 0 | C14: 1 | D14: 2 | E14: 3 | F14: 4 | G14: 5 | H14: 6 | I14: 7 | J14: 8 | K14: 9 | L14: 10 | M14: 11 | N14: 12 | O14: 13 | P14: 14 | Q14: 15 | R14: 16 | S14: 17 | T14: 18 | U14: 19 | V14: 20 | W14: 21 | X14: 22 | Y14: 23
A15: Kustannukset
A16: Lohkon perustaminen
A17: Ojitus | B17: =Lähtötiedot_kustannukset!$B$6*25 -> 18810 | C17: =Lähtötiedot_kustannukset!$B$6*25 -> 18810 | D17: =Lähtötiedot_kustannukset!$B$6*25 -> 18810 | E17: =Lähtötiedot_kustannukset!$B$6*25 -> 18810
A18: Maanmuokkaustyöt | B18: =Lähtötiedot_kustannukset!$B$7*25 -> 1100 | C18: =Lähtötiedot_kustannukset!$B$7*25 -> 1100 | D18: =Lähtötiedot_kustannukset!$B$7*25 -> 1100 | E18: =Lähtötiedot_kustannukset!$B$7*25 -> 1100
A19: Rikantorjunta, glyfosaatti + levitys | B19: =Lähtötiedot_kustannukset!$B$8*25 -> 3771 | C19: =Lähtötiedot_kustannukset!$B$8*25 -> 3771 | D19: =Lähtötiedot_kustannukset!$B$8*25 -> 3771 | E19: =Lähtötiedot_kustannukset!$B$8*25 -> 3771
A20: pH:n nosto: tuhka + kuljetus | B20: =Lähtötiedot_kustannukset!$B$9*25 -> 5416.6667 | C20: =Lähtötiedot_kustannukset!$B$9*25 -> 5416.6667 | D20: =Lähtötiedot_kustannukset!$B$9*25 -> 5416.6667 | E20: =Lähtötiedot_kustannukset!$B$9*25 -> 5416.6667
A21: Lannoitus: karjanlanta + kuljetus | C21: =Lähtötiedot_kustannukset!$B$20*25 -> 19068.875 | D21: =Lähtötiedot_kustannukset!$B$20*25 -> 19068.875 | E21: =Lähtötiedot_kustannukset!$B$20*25 -> 19068.875 | F21: =Lähtötiedot_kustannukset!$B$20*25 -> 19068.875
A22: Istutus
A23: Pistokkaat | B23: =Lähtötiedot_kustannukset!$B$14*25 -> 39000 | C23: =Lähtötiedot_kustannukset!$B$14*25 -> 39000 | D23: =Lähtötiedot_kustannukset!$B$14*25 -> 39000 | E23: =Lähtötiedot_kustannukset!$B$14*25 -> 39000
A24: Istutustyö | B24: =Lähtötiedot_kustannukset!$B$15*25 -> 10625 | C24: =Lähtötiedot_kustannukset!$B$15*25 -> 10625 | D24: =Lähtötiedot_kustannukset!$B$15*25 -> 10625 | E24: =Lähtötiedot_kustannukset!$B$15*25 -> 10625
A25: Alasleikkuu | C25: =Lähtötiedot_kustannukset!$B$16*25 -> 1150 | D25: =Lähtötiedot_kustannukset!$B$16*25 -> 1150 | E25: =Lähtötiedot_kustannukset!$B$16*25 -> 1150 | F25: =Lähtötiedot_kustannukset!$B$16*25 -> 1150
A26: Sadonkorjuu ja hoito
A27: Korjauskustannus (korjuu suoraan hakkeeksi) | F27: =Lähtötiedot_kustannukset!$B$18*25 -> 25160 | G27: =Lähtötiedot_kustannukset!$B$18*25 -> 25160 | H27: =Lähtötiedot_kustannukset!$B$18*25 -> 25160 | I27: =Lähtötiedot_kustannukset!$B$18*25 -> 25160 | J27: =Lähtötiedot_kustannukset!$B$18*25 -> 25160 | K27: =Lähtötiedot_kustannukset!$B$18*25 -> 25160 | L27: =Lähtötiedot_kustannukset!$B$18*25 -> 25160 | M27: =Lähtötiedot_kustannukset!$B$18*25 -> 25160 | ... Y27: =Lähtötiedot_kustannukset!$B$18*25 -> 25160
A28: Lannoitus sadonkorjuun jälkeen (karjanlanta + kuljetus) | F28: =Lähtötiedot_kustannukset!$B$20*25 -> 19068.875 | G28: =Lähtötiedot_kustannukset!$B$20*25 -> 19068.875 | H28: =Lähtötiedot_kustannukset!$B$20*25 -> 19068.875 | I28: =Lähtötiedot_kustannukset!$B$20*25 -> 19068.875 | J28: =Lähtötiedot_kustannukset!$B$20*25 -> 19068.875 | K28: =Lähtötiedot_kustannukset!$B$20*25 -> 19068.875 | L28: =Lähtötiedot_kustannukset!$B$20*25 -> 19068.875 | M28: =Lähtötiedot_kustannukset!$B$20*25 -> 19068.875 | ... X28: =Lähtötiedot_kustannukset!$B$20*25 -> 19068.875
A29: Lopetus
A30: Kasvuston kemiallinen lopetus + jyrsintä | V30: =Lähtötiedot_kustannukset!$B$22*25 -> 29100 | W30: =Lähtötiedot_kustannukset!$B$22*25 -> 29100 | X30: =Lähtötiedot_kustannukset!$B$22*25 -> 29100 | Y30: =Lähtötiedot_kustannukset!$B$22*25 -> 29100
A31: Muut kustannukset
A32: Maa-alueen kustannukset, suo: vuokra | B32: =Lähtötiedot_kustannukset!$B$24*25 -> 5738.75 | C32: =Lähtötiedot_kustannukset!$B$24*50 -> 11477.5 | D32: =Lähtötiedot_kustannukset!$B$24*75 -> 17216.25 | E32: =Lähtötiedot_kustannukset!$B$24*100 -> 22955 | F32: =Lähtötiedot_kustannukset!$B$24*100 -> 22955 | G32: =Lähtötiedot_kustannukset!$B$24*100 -> 22955 | H32: =Lähtötiedot_kustannukset!$B$24*100 -> 22955 | I32: =Lähtötiedot_kustannukset!$B$24*100 -> 22955 | J32: =Lähtötiedot_kustannukset!$B$24*100 -> 22955 | K32: =Lähtötiedot_kustannukset!$B$24*100 -> 22955 | L32: =Lähtötiedot_kustannukset!$B$24*100 -> 22955 | ... V32: =Lähtötiedot_kustannukset!$B$24*100 -> 22955 | W32: =Lähtötiedot_kustannukset!$B$24*75 -> 17216.25 | X32: =Lähtötiedot_kustannukset!$B$24*50 -> 11477.5 | Y32: =Lähtötiedot_kustannukset!$B$24*25 -> 5738.75
A33: Tuotteen logistiikka
A34: Kuljetus 60 km säteellä | F34: =Lähtötiedot_kustannukset!$B$26*25 -> 18888.889 | G34: =Lähtötiedot_kustannukset!$B$26*25 -> 18888.889 | H34: =Lähtötiedot_kustannukset!$B$26*25 -> 18888.889 | I34: =Lähtötiedot_kustannukset!$B$26*25 -> 18888.889 | J34: =Lähtötiedot_kustannukset!$B$26*25 -> 18888.889 | K34: =Lähtötiedot_kustannukset!$B$26*25 -> 18888.889 | L34: =Lähtötiedot_kustannukset!$B$26*25 -> 18888.889 | M34: =Lähtötiedot_kustannukset!$B$26*25 -> 18888.889 | ... Y34: =Lähtötiedot_kustannukset!$B$26*25 -> 18888.889
A36: Tuotot
A37: Pajuhakkeen myyntituotto | F37: =Lähtötiedot_tuotot!$B$19 -> 132977.78 | G37: =Lähtötiedot_tuotot!$B$19 -> 132977.78 | H37: =Lähtötiedot_tuotot!$B$19 -> 132977.78 | I37: =Lähtötiedot_tuotot!$B$19 -> 132977.78 | J37: =Lähtötiedot_tuotot!$B$19 -> 132977.78 | K37: =Lähtötiedot_tuotot!$B$19 -> 132977.78 | L37: =Lähtötiedot_tuotot!$B$19 -> 132977.78 | M37: =Lähtötiedot_tuotot!$B$19 -> 132977.78 | ... Y37: =Lähtötiedot_tuotot!$B$19 -> 132977.78 | Z37: =SUM(B37:Y37) -> 2659555.6 | AA37: Kaikki tulot yhteensä
A38: Mahdolliset tuet
A41: KASSAVIRTA
A42: Nimellinen (ei diskontattu):
A43: Vuoden kustannukset yht. | B43: =SUM(B15:B35) -> 84461.417 | C43: =SUM(C15:C35) -> 110419.04 | D43: =SUM(D15:D35) -> 116157.79 | E43: =SUM(E15:E35) -> 121896.54 | F43: =SUM(F15:F35) -> 106291.64 | G43: =SUM(G15:G35) -> 86072.764 | H43: =SUM(H15:H35) -> 86072.764 | I43: =SUM(I15:I35) -> 86072.764 | ... Y43: =SUM(Y15:Y35) -> 78887.639 | Z43: =SUM(B43:Y43) -> 2237507.6 | AA43: Kaikki kustannukset yhteensä
A44: Vuoden tulot yht. | B44: =SUM(B36:B38) -> 0 | C44: =SUM(C36:C38) -> 0 | D44: =SUM(D36:D38) -> 0 | E44: =SUM(E36:E38) -> 0 | F44: =SUM(F36:F38) -> 132977.78 | G44: =SUM(G36:G38) -> 132977.78 | H44: =SUM(H36:H38) -> 132977.78 | I44: =SUM(I36:I38) -> 132977.78 | ... Y44: =SUM(Y36:Y38) -> 132977.78 | Z44: =SUM(B44:Y44) -> 2659555.6 | AA44: Kaikki tulot yhteensä
A45: Nettokassavirta | B45: =SUM(B36:B38)-SUM(B15:B35) -> -84461.417 | C45: =SUM(C36:C38)-SUM(C15:C35) -> -110419.04 | D45: =SUM(D36:D38)-SUM(D15:D35) -> -116157.79 | E45: =SUM(E36:E38)-SUM(E15:E35) -> -121896.54 | F45: =SUM(F36:F38)-SUM(F15:F35) -> 26686.139 | G45: =SUM(G36:G38)-SUM(G15:G35) -> 46905.014 | H45: =SUM(H36:H38)-SUM(H15:H35) -> 46905.014 | I45: =SUM(I36:I38)-SUM(I15:I35) -> 46905.014 | ... Y45: =SUM(Y36:Y38)-SUM(Y15:Y35) -> 54090.139 | Z45: =SUM(B45:Y45) -> 422047.99 | AA45: nettokassavirta yht.
A46: Kumulatiivinen nettokassavirta | B46: =SUM(B37:B38)-SUM(B17:B34) -> -84461.417 | C46: =B46+(SUM(C36:C38)-SUM(C15:C35)) -> -194880.46 | D46: =C46+(SUM(D36:D38)-SUM(D15:D35)) -> -311038.25 | E46: =D46+(SUM(E36:E38)-SUM(E15:E35)) -> -432934.79 | F46: =E46+(SUM(F36:F38)-SUM(F15:F35)) -> -406248.65 | G46: =F46+(SUM(G36:G38)-SUM(G15:G35)) -> -359343.64 | H46: =G46+(SUM(H36:H38)-SUM(H15:H35)) -> -312438.63 | I46: =H46+(SUM(I36:I38)-SUM(I15:I35)) -> -265533.61 | J46: =I46+(SUM(J36:J38)-SUM(J15:J35)) -> -218628.6 | ... Y46: =X46+(SUM(Y36:Y38)-SUM(Y15:Y35)) -> 422047.99
A47: Takaisinmaksuajan etsintä | B47: =IF(B46>0,"+","") | C47: =IF(C46>0,"+","") | D47: =IF(D46>0,"+","") | E47: =IF(E46>0,"+","") | F47: =IF(F46>0,"+","") | G47: =IF(G46>0,"+","") | H47: =IF(H46>0,"+","") | I47: =IF(I46>0,"+","") | ... Y47: =IF(Y46>0,"+","") -> +
A48: Diskontattu:
A49: Vuoden diskontatut kustannukset | B49: =B43/(1+$B$4)^B14 -> 84461.417 | C49: =C43/(1+$B$4)^C14 -> 105160.99 | D49: =D43/(1+$B$4)^D14 -> 105358.54 | E49: =E43/(1+$B$4)^E14 -> 105298.82 | F49: =F43/(1+$B$4)^F14 -> 87446.394 | G49: =G43/(1+$B$4)^G14 -> 67440.263 | H49: =H43/(1+$B$4)^H14 -> 64228.822 | I49: =I43/(1+$B$4)^I14 -> 61170.306 | ... Y49: =Y43/(1+$B$4)^Y14 -> 25683.552 | Z49: =SUM(B49:Y49) -> 1366553 | AA49: diskontatut kustannukset yht.
A50: Vuoden diskontatut tulot yht. | B50: =B44/(1+$B$4)^B14 -> 0 | C50: =C44/(1+$B$4)^C14 -> 0 | D50: =D44/(1+$B$4)^D14 -> 0 | E50: =E44/(1+$B$4)^E14 -> 0 | F50: =F44/(1+$B$4)^F14 -> 109401.15 | G50: =G44/(1+$B$4)^G14 -> 104191.57 | H50: =H44/(1+$B$4)^H14 -> 99230.065 | I50: =I44/(1+$B$4)^I14 -> 94504.824 | ... Y50: =Y44/(1+$B$4)^Y14 -> 43293.749 | Z50: =SUM(B50:Y50) -> 1431549.1 | AA50: diskontatut tulot yht.
A52: Diskontattu nettokassavirta | B52: =B45/(1+$B$4)^B14 -> -84461.417 | C52: =C45/(1+$B$4)^C14 -> -105160.99 | D52: =D45/(1+$B$4)^D14 -> -105358.54 | E52: =E45/(1+$B$4)^E14 -> -105298.82 | F52: =F45/(1+$B$4)^F14 -> 21954.752 | G52: =G45/(1+$B$4)^G14 -> 36751.306 | H52: =H45/(1+$B$4)^H14 -> 35001.244 | I52: =I45/(1+$B$4)^I14 -> 33334.518 | ... Y52: =Y45/(1+$B$4)^Y14 -> 17610.197 | Z52: =SUM(B52:Y52) -> 64996.069 | AA52: diskontattu nettokassavirta eli nettonykyarvo
A53: Kumulatiivinen diskontattu kassavirta | B53: =B52 -> -84461.417 | C53: =B53+C52 -> -189622.41 | D53: =C53+D52 -> -294980.95 | E53: =D53+E52 -> -400279.77 | F53: =E53+F52 -> -378325.01 | G53: =F53+G52 -> -341573.71 | H53: =G53+H52 -> -306572.46 | I53: =H53+I52 -> -273237.95 | J53: =I53+J52 -> -241490.79 | ... Y53: =X53+Y52 -> 64996.069
A54: Diskontattu takaisinmaksuaika etsintä | B54: =IF(B53>0,"+","") | C54: =IF(C53>0,"+","") | D54: =IF(D53>0,"+","") | E54: =IF(E53>0,"+","") | F54: =IF(F53>0,"+","") | G54: =IF(G53>0,"+","") | H54: =IF(H53>0,"+","") | I54: =IF(I53>0,"+","") | ... Y54: =IF(Y53>0,"+","") -> +
AF57: 0.1283 | AG57: sisäinen korkokanta, kun NNA = 0, manuaalisesti haarukoimalla
AG58: Yritysmaailmassa odotettu IRR on 16 %

Sheet Lähtötiedot_kustannukset
A1: PERUSLASKELMASSA KÄYTETTYJÄ LÄHTÖTIETOJA
A3: KUSTANNUSLASKELMAN LÄHTÖTIETOJA
A4: Työvaihe | B4: Kustannus €/ha | C4: Lähde | D4: Lisätietoa | E4: Vaihtoehtoisia kustannustietoja
A5: Viljelysmaan perustaminen
A6: Ojitus + ojarumpu | B6: 752.4 | C6: Awuah ym. 2026 | D6: Neovan Karhunsuon koeviljelmä, mukana tierumpu 57 € (kappalehinta) sekä ojitustyö 695 €/ha
A7: Maanmuokkaustyöt | B7: 44 | C7: Viherä-Aarnio ym. 2022 | D7: Pelkkä äestys | E7: Awuah ym. 2026: soil leveling 91 €/ha
A8: Rikantorjunta, glyfosaatti + levitys | B8: 150.84 | C8: Awuah ym. 2026 | D8: Glyfosaattia 6 L/ha, hinta 21,49 €/L, levitys 22€/ha. | E8: Viherä-Aarnio ym. 2022 lähteessä paljon halvempi.
A9: pH:n nosto: tuhka (vaihtoehtoinen) + kuljetus | B9: =6*25+100/1.5 -> 216.66667 | C9: Carbons Finland Oy 2020 | D9: Tuhka 6 tn/ha, 25 €/tn. + levityskustannus: 100€/ha / 1,5 ha/h = 67 €/ha | E9: Lähteessä Viherä-Aarnio ym. 2022 sekä Awuah ym. 2026 paljon kalliimpi: (Viherä-Aarnio ym. 2022: 370 €/ha levitysmäärällä 5 t/ha
A10: Lannoitus: karjanlanta + kuljetus | B10: 762.755 | C10: Awuah ym. 2026 ja Viherä-Aarnio ym. 2022 | D10: Lietelannan hinta 10 €/tn (Awuah ym. 2026), määrä 30 t/ha (Suutari 2020, Kurki 2016). Kuljetus + levitys 442 €/ha 10 km päähän. Levitys multaavalla vaunulla.
A11: pH:n nosto: kalkki + levitys | B11: 271 | C11: Awuah ym. 2026 | D11: 10 tn/ha, kustannus 21 €/tn. | E11: Lähteessä Viherä-Aarnio ym. 2022 määrä 6 tn/ha ja kustannus 41,6 €/tn --> 2 x kalliimpi, levityskustannus mukana hinnassa?
A12: Lannoitus: mineraalilannoitus
A13: Istuttaminen
A14: Pistokkaat | B14: 1560 | C14: Awuah ym. 2026 | D14: 13000 pistokasta /ha, a´hinta 0,12 €, lähde: Awuah ym. 2026 (Neovan Karhunsuon koeviljelmä) | E14: Lähteessä Viherä-Aarnio ym. 2022: Pistokkaat (12 800 kpl + istutus) = 2406 €/ha
A15: Istutustyön hinta | B15: 425 | C15: Carbons Finland Oy 2020 | D15: Koneellinen istutus kaksirivisellä istutuskoneilla. Istutuskone 125 €/ha, traktori + istutustyö 300 €/ha.
A16: Alasleikkuu | B16: 46 | C16: Viherä-Aarnio ym. 2022 | D16: Alasleikkuu istutusta seuraavana vuonna, jotta paju saadaan haaroittumaan.
A17: Sadonkorjuu ja hoito
A18: Korjuukustannus ajosilppurilla | B18: 1006.4 | C18: Awuah ym. 2026 | D18: Kustannus per korjuukerta satotasolla 6,8 t k-a/ha/vuosi ja neljän vuoden korjuukierrolla. Korjuukustannus energiapuupäällä varustetulla hakettavalla ajosilppurilla 37 €/k-a tn.
A19: Korjuukustannus RisuPedolla rangoiksi | B19: 1200 | D19: Kouvolassa tieto, että Risupedon työtahti 1000 m2 / h = 0,1 ha / h --> 1 ha/10 h . Tuntihinnalla 120 €/h korjuukustannus 1200 €/ha
A20: Lannoitus sadonkorjuun jälkeen | B20: =B10 -> 762.755 | C20: Awuah ym. 2026 ja Viherä-Aarnio ym. 2022 | D20: Lannoituskustannus per lannoituskerta. Sama kuin perustamislannoitus eli maksimi. HUOM kerro sadonkorjuun määrillä -1
A21: Lopetus
A22: Kasvuston kemiallinen lopetus + jyrsintä | B22: 1164 | C22: Viherä-Aarnio ym. 2022 | D22: Kasvuston kemiallinen tuhoaminen (glyfosaattivalmiste 6—8 I/ha), kantojen jyrsintä
A23: Muut kustannukset
A24: Maa-alueen vuokra | B24: 229.55 | C24: Awuah ym. 2026 | D24: Entisen turvetuotantoalueen vuokra
A25: Logistiikka
A26: Kuljetuskustannus | B26: 755.55556 | C26: Hankkeessa tehty arvio | D26: Arvioitu neljän vuoden hehtaarisadon kuljetuskustannus keskimäärin 60 km päähän kuljetuskustannuksella 4 €/i-m3. | E26: Awuah ym. 2026
A31: Mainitut lähdeaineistot:
A32: Awuah, J., Pappinen, A., Laasasenaho, K., Hassan, M. K., Lauhanen, R., & Kuittinen, S. (2026). Evaluating the investment attractiveness and carbon credit potential of short rotation willow plantation on a cutaway peatland. Industrial Crops & Products, 240, 122567. https://doi.org/10.1016/j.indcrop.2025.122567
A33: Viherä-Aarnio, A., Jyske, T., Beuker, E., Kaseva, J., & Sarjala, T. (toim.). (2022). Pajut biokiertotaloudessa: Materiaaleja, arvoaineita, ympäristöhyötyjä: Synteesiraportti. Luonnonvara- ja biotalouden tutkimus 11/2022. Luonnonvarakeskus.
A34: Carbons Finland Oy. (2020). Pajujen kasvatusohjeet: Kesä 2020. https://carbons.fi/wp-content/uploads/2020/11/Tuotekortti-Pajun-kasvatus-0720.pdf
A35: Vanbeveren, S. P. P., Spinelli, R., Eisenbies, M., Schweier, J., Mola-Yudego, B., Magagnotti, N., Acuna, M., Dimitriou, I., & Ceulemans, R. (2017). Mechanised harvesting of short-rotation coppices. Renewable and Sustainable Energy Reviews, 76, 90–104. https://doi.org/10.1016/j.rser.2017.02.059
Q59: =Lähtötiedot_kustannukset!B7 -> 44

Sheet Lähtötiedot_tuotot
A1: PERUSLASKELMASSA KÄYTETTYJÄ LÄHTÖTIETOJA
A4: Yksikkömuunnokset (1 kWh = 3,6 MJ)
B5: MJ/kg ka | C5: kWh/kg ka | D5: MWh/t ka
A6: Pajuhakkeen tehollinen lämpöarvo kuiva-aineelle | B6: 17.6 | C6: =B6/3.6 -> 4.8888889 | D6: =C6*1000/1000 -> 4.8888889
A9: PAJUHAKKEEN ARVO ENERGIAPUUNA, LASKENTATAULUKKO | B9: Sarake1 | C9: Sarake2
A10: Pajuhakkeen tehollinen lämpöarvo kuiva-aineelle, MWh/t ka | B10: =D6 -> 4.8888889 | C10: MWh/t ka
A11: Energiapuuhakkeen hinta, €/MWh | B11: 40 | C11: €/MWh
A12: Pajun hinta energiahakkeena, €/t ka | B12: =D6*B11 -> 195.55556 | C12: €/t ka
A13: Pajuhakkeen kuiva-tuoretiheys | B13: 360 | C13: kg TS/k-m3
A14: Pajuviljelmän hehtaarisato vuodessa | B14: 6.8 | C14: t k-a/ha/vuosi
A15: Korjuuväli | B15: 4 | C15: vuotta
A16: Tuorehakkeen hehtaarisato kiintokuutioina | B16: =B14/(B13/1000) -> 18.888889 | C16: k-m3/ha/vuosi
A17: Tuorehakkeen hehtaarisato irtokuutioina (k-m3 --> i-m3, kerroin 2,5) | B17: =B16*2.5 -> 47.222222 | C17: i-m3/ha/vuosi
A18: Tuorehakkeen hinta irtokuutioina | B18: =(($B$13/2.5)/1000)*$B$12 -> 28.16 | C18: €/i-m3
A19: Myyntituotto korjattavalta alalta (25 ha), korjuu 4 vuoden välein | B19: =B17*B18*25*B15 -> 132977.78 | C19: €/25 ha/4 vuotta
A22: Käytettyjä lähdeaineistoja:
A23: https://www.pajuenergia.fi/wp-content/uploads/2024/05/nielupajukon-normilaskentaa.pdf
A24: infosheet3_part2_secure-bio-supply-fin.pdf
A25: https://urn.fi/URN:ISBN:978-952-380-368-8
