Workbook

Sheet Ohje työkirjan käyttöön
A1: OHJE KASSAVIRTALASKELMAN KÄYTTÖÖN
A3: Mitä laskelmalla voi tehdä?
A4: Kassavirtalaskelma-välilehden avulla voi arvioida suunnitellun pajubiohiilen tuotannon kassavirtaa ja kannattavuutta 24 vuoden tarkastelujaksolla.
A5: Laskentapohjassa on valmiina Pajuarvoketjuista uutta liiketoimintaa -hankkeessa laadittu esimerkkilaskelma liiketoimintamallista, jossa toimija viljelee biohiilen raaka-aineena käytettävän pajun sekä tuottaa ja myy biohiiltä. Laskelmassa syntyy tuottoja myös pyrolyysissä muodostuvan lämpöenergian ja hiilikrediittien myynnistä.
A6: Laskentapohjaa voi muokata oman suunnitellun liiketoiminnan tarkasteluun.
A8: Mistä lähtötiedot löytyvät?
A9: Esimerkkilaskelmassa käytettyjä kustannus- ja tuottotietoja sekä niiden lähteitä on koottu välilehdille Lähtötiedot_kustannukset ja Lähtötiedot_tuotot. Kassavirtalaskelman kaavat hakevat tietoja näiltä välilehdiltä.
A10: Lähtötiedoissa kuvataan muun muassa pajun viljelyn, korjuun ja logistiikan kustannuksia, biohiililaitoksen investointi- ja käyttökustannuksia sekä biohiilen, lämpöenergian ja hiilikrediittien myynnistä saatavia tuottoja.
A12: Miten laskelmaa voi muokata?
A13: Laskelmaa voi muokata omaan suunniteltuun liiketoimintaan sopivaksi kahdella tavalla:
A14: Lähtötietoja muuttamalla: Esimerkkilaskelmassa käytettyjä kustannus- ja tuottotietoja voi muuttaa Lähtötiedot_kustannukset- ja Lähtötiedot_tuotot -välilehdillä. Kassavirtalaskelman kaavat hakevat muuttuneet tiedot näiltä välilehdiltä.
A15: Muokkaamalla kassavirtataulukkoa suoraan: Kustannus- ja tuottoeriä voi lisätä, poistaa tai muuttaa suoraan kassavirtalaskelman välilehdellä omaa liiketoimintaa vastaaviksi. Huomaa, että solussa oleva kaava poistuu, jos sen päälle kirjoitetaan uusi arvo.
... A31: Esimerkkilaskelman tulokset eivät sellaisenaan kuvaa yksittäisen yrityksen toteutuvan liiketoiminnan kannattavuutta. Tarkempi arviointi edellyttää tapauskohtaisia tietoja muun muassa käytettävästä tuotantotekniikasta, investoinneista, lämmön hyödyntämismahdollisuuksista sekä tavoitellusta biohiilituotteesta ja sen markkinasta.

Sheet Biohiili_kassavirta
A1: KASSAVIRTALASKELMA PAJUN VILJELY JA PAJUBIOHIILEN TUOTANTO
A3: Lähtötiedot
A4: Biomacon 63 kW-pyrolyysilaitteisto
A5: HUOM! Laskelmassa 36 ha pajuviljelmä perustetaan vaiheittain siten, että joka vuosi perustetaan 9 ha viljelmä ensimmäisen neljän vuoden aikana. Ensimmäisen neljän viljelyvuoden jälkeen joka vuosi korjataan sato 9 hehtaarilta, jolloin kasvusto on neljävuotias. Biohiilituotanto alkaa samana vuonna kuin on ensimmäinen sadonkorjuu.
A7: Diskonttokorko | B7: 0.05 | C7: (voi muuttaa oman tuottovaatimuksen/pääoman kustannuksen mukaiseksi)
A9: KASSAVIRTALASKELMAN TULOKSET
A10: NPV eli nettonykyarvo | B10: =B56+NPV(B7,C56:Y56) -> 43145.382
A11: IRR eli sisäinen korkokanta eli tuottoprosentti | B11: =IRR(B56:Y56) -> 0.062180833
A12: Takaisinmaksuaika | B12: {=MATCH(TRUE,B64:Y64>0,0)-1} -> 20 | C12: vuotta
A14: Pajubiohiilituotannon kassavirta
B15: Vuosi
A16: Biohiilituotanto | B16: 0 | C16: 1 | D16: 2 | E16: 3 | F16: 4 | G16: 5 | H16: 6 | I16: 7 | J16: 8 | K16: 9 | L16: 10 | M16: 11 | N16: 12 | O16: 13 | P16: 14 | Q16: 15 | R16: 16 | S16: 17 | T16: 18 | U16: 19 | V16: 20 | W16: 21 | X16: 22 | Y16: 23
A17: Kustannukset
A18: Lohkon perustaminen
A19: Ojitus | B19: =Lähtötiedot_kustannukset!$B$5*9 -> 6771.6 | C19: =Lähtötiedot_kustannukset!$B$5*9 -> 6771.6 | D19: =Lähtötiedot_kustannukset!$B$5*9 -> 6771.6 | E19: =Lähtötiedot_kustannukset!$B$5*9 -> 6771.6
A20: Maanmuokkaustyöt | B20: =Lähtötiedot_kustannukset!$B$6*9 -> 396 | C20: =Lähtötiedot_kustannukset!$B$6*9 -> 396 | D20: =Lähtötiedot_kustannukset!$B$6*9 -> 396 | E20: =Lähtötiedot_kustannukset!$B$6*9 -> 396
A21: Rikantorjunta, glyfosaatti + levitys | B21: =Lähtötiedot_kustannukset!$B$7*9 -> 1357.56 | C21: =Lähtötiedot_kustannukset!$B$7*9 -> 1357.56 | D21: =Lähtötiedot_kustannukset!$B$7*9 -> 1357.56 | E21: =Lähtötiedot_kustannukset!$B$7*9 -> 1357.56
A22: pH:n nosto: tuhka + kuljetus | B22: =Lähtötiedot_kustannukset!$B$8*9 -> 1950 | C22: =Lähtötiedot_kustannukset!$B$8*9 -> 1950 | D22: =Lähtötiedot_kustannukset!$B$8*9 -> 1950 | E22: =Lähtötiedot_kustannukset!$B$8*9 -> 1950
A23: Lannoitus: karjanlanta + kuljetus | C23: =Lähtötiedot_kustannukset!$B$22*9 -> 6864.7925 | D23: =Lähtötiedot_kustannukset!$B$22*9 -> 6864.7925 | E23: =Lähtötiedot_kustannukset!$B$22*9 -> 6864.7925 | F23: =Lähtötiedot_kustannukset!$B$22*9 -> 6864.7925
A24: Istutus
A25: Pistokkaat | B25: =Lähtötiedot_kustannukset!$B$14*9 -> 14040 | C25: =Lähtötiedot_kustannukset!$B$14*9 -> 14040 | D25: =Lähtötiedot_kustannukset!$B$14*9 -> 14040 | E25: =Lähtötiedot_kustannukset!$B$14*9 -> 14040
A26: Istutustyö | B26: =Lähtötiedot_kustannukset!$B$15*9 -> 3825 | C26: =Lähtötiedot_kustannukset!$B$15*9 -> 3825 | D26: =Lähtötiedot_kustannukset!$B$15*9 -> 3825 | E26: =Lähtötiedot_kustannukset!$B$15*9 -> 3825
A27: Alasleikkuu | C27: =Lähtötiedot_kustannukset!$B$16*9 -> 414 | D27: =Lähtötiedot_kustannukset!$B$16*9 -> 414 | E27: =Lähtötiedot_kustannukset!$B$16*9 -> 414 | F27: =Lähtötiedot_kustannukset!$B$16*9 -> 414
A28: Sadonkorjuu ja hoito
A29: Korjauskustannus (korjuu kokorankana) | F29: =Lähtötiedot_kustannukset!$B$20*9 -> 9645.12 | G29: =Lähtötiedot_kustannukset!$B$20*9 -> 9645.12 | H29: =Lähtötiedot_kustannukset!$B$20*9 -> 9645.12 | I29: =Lähtötiedot_kustannukset!$B$20*9 -> 9645.12 | J29: =Lähtötiedot_kustannukset!$B$20*9 -> 9645.12 | K29: =Lähtötiedot_kustannukset!$B$20*9 -> 9645.12 | L29: =Lähtötiedot_kustannukset!$B$20*9 -> 9645.12 | M29: =Lähtötiedot_kustannukset!$B$20*9 -> 9645.12 | ... Y29: =Lähtötiedot_kustannukset!$B$20*9 -> 9645.12
A30: Haketuskustannus | F30: =Lähtötiedot_kustannukset!$B$34*9 -> 2990.7027 | G30: =Lähtötiedot_kustannukset!$B$34*9 -> 2990.7027 | H30: =Lähtötiedot_kustannukset!$B$34*9 -> 2990.7027 | I30: =Lähtötiedot_kustannukset!$B$34*9 -> 2990.7027 | J30: =Lähtötiedot_kustannukset!$B$34*9 -> 2990.7027 | K30: =Lähtötiedot_kustannukset!$B$34*9 -> 2990.7027 | L30: =Lähtötiedot_kustannukset!$B$34*9 -> 2990.7027 | M30: =Lähtötiedot_kustannukset!$B$34*9 -> 2990.7027 | ... Y30: =Lähtötiedot_kustannukset!$B$34*9 -> 2990.7027
A31: Logistiikkakustannus (hakkeen siirto 20-40 km) | F31: =Lähtötiedot_kustannukset!$B$31*9 -> 8788.8268 | G31: =Lähtötiedot_kustannukset!$B$31*9 -> 8788.8268 | H31: =Lähtötiedot_kustannukset!$B$31*9 -> 8788.8268 | I31: =Lähtötiedot_kustannukset!$B$31*9 -> 8788.8268 | J31: =Lähtötiedot_kustannukset!$B$31*9 -> 8788.8268 | K31: =Lähtötiedot_kustannukset!$B$31*9 -> 8788.8268 | L31: =Lähtötiedot_kustannukset!$B$31*9 -> 8788.8268 | M31: =Lähtötiedot_kustannukset!$B$31*9 -> 8788.8268 | ... Y31: =Lähtötiedot_kustannukset!$B$31*9 -> 8788.8268
A32: Lannoitus sadonkorjuun jälkeen (karjanlanta + kuljetus) | F32: =Lähtötiedot_kustannukset!$B$22*9 -> 6864.7925 | G32: =Lähtötiedot_kustannukset!$B$22*9 -> 6864.7925 | H32: =Lähtötiedot_kustannukset!$B$22*9 -> 6864.7925 | I32: =Lähtötiedot_kustannukset!$B$22*9 -> 6864.7925 | J32: =Lähtötiedot_kustannukset!$B$22*9 -> 6864.7925 | K32: =Lähtötiedot_kustannukset!$B$22*9 -> 6864.7925 | L32: =Lähtötiedot_kustannukset!$B$22*9 -> 6864.7925 | M32: =Lähtötiedot_kustannukset!$B$22*9 -> 6864.7925 | ... X32: =Lähtötiedot_kustannukset!$B$22*9 -> 6864.7925
A33: Lopetus
A34: Kasvuston kemiallinen lopetus + jyrsintä | V34: =Lähtötiedot_kustannukset!$B$25*9 -> 10476 | W34: =Lähtötiedot_kustannukset!$B$25*9 -> 10476 | X34: =Lähtötiedot_kustannukset!$B$25*9 -> 10476 | Y34: =Lähtötiedot_kustannukset!$B$25*9 -> 10476
A35: Muut kustannukset
A36: Maa-alueen kustannukset, suo: vuokra | B36: =Lähtötiedot_kustannukset!$B$28*9 -> 2065.95 | C36: =Lähtötiedot_kustannukset!$B$28*18 -> 4131.9 | D36: =Lähtötiedot_kustannukset!$B$28*27 -> 6197.85 | E36: =Lähtötiedot_kustannukset!$B$28*36 -> 8263.8 | F36: =Lähtötiedot_kustannukset!$B$28*36 -> 8263.8 | G36: =Lähtötiedot_kustannukset!$B$28*36 -> 8263.8 | H36: =Lähtötiedot_kustannukset!$B$28*36 -> 8263.8 | I36: =Lähtötiedot_kustannukset!$B$28*36 -> 8263.8 | J36: =Lähtötiedot_kustannukset!$B$28*36 -> 8263.8 | K36: =Lähtötiedot_kustannukset!$B$28*36 -> 8263.8 | L36: =Lähtötiedot_kustannukset!$B$28*36 -> 8263.8 | ... V36: =Lähtötiedot_kustannukset!$B$28*36 -> 8263.8 | W36: =Lähtötiedot_kustannukset!$B$28*27 -> 6197.85 | X36: =Lähtötiedot_kustannukset!$B$28*18 -> 4131.9 | Y36: =Lähtötiedot_kustannukset!$B$28*9 -> 2065.95
A37: Biohiilituotanto
A38: Biohiililaitosinvestointi (sis. rakennus) | E38: =SUM(Lähtötiedot_kustannukset!B37:B40) -> 258900
A39: Kuivauslaitteistoinvestointi
A40: Investoinnit varastoihin ym. Infraan | E40: =Lähtötiedot_kustannukset!B41 -> 20000
A41: Käyttö- ja ylläpito (huollot, vakuutukset, luvat, labrat jne.) | F41: =Lähtötiedot_kustannukset!$B$44 -> 8367 | G41: =Lähtötiedot_kustannukset!$B$44 -> 8367 | H41: =Lähtötiedot_kustannukset!$B$44 -> 8367 | I41: =Lähtötiedot_kustannukset!$B$44 -> 8367 | J41: =Lähtötiedot_kustannukset!$B$44 -> 8367 | K41: =Lähtötiedot_kustannukset!$B$44 -> 8367 | L41: =Lähtötiedot_kustannukset!$B$44 -> 8367 | M41: =Lähtötiedot_kustannukset!$B$44 -> 8367 | ... Y41: =Lähtötiedot_kustannukset!$B$44 -> 8367
A42: Työvoimakustannukset | F42: =Lähtötiedot_kustannukset!$B$42 -> 7500 | G42: =Lähtötiedot_kustannukset!$B$42 -> 7500 | H42: =Lähtötiedot_kustannukset!$B$42 -> 7500 | I42: =Lähtötiedot_kustannukset!$B$42 -> 7500 | J42: =Lähtötiedot_kustannukset!$B$42 -> 7500 | K42: =Lähtötiedot_kustannukset!$B$42 -> 7500 | L42: =Lähtötiedot_kustannukset!$B$42 -> 7500 | M42: =Lähtötiedot_kustannukset!$B$42 -> 7500 | ... Y42: =Lähtötiedot_kustannukset!$B$42 -> 7500
A43: Laitoksen energiankulutus (sis- pyrolyysi ja kuivaus) | F43: =Lähtötiedot_kustannukset!$B$43 -> 3360 | G43: =Lähtötiedot_kustannukset!$B$43 -> 3360 | H43: =Lähtötiedot_kustannukset!$B$43 -> 3360 | I43: =Lähtötiedot_kustannukset!$B$43 -> 3360 | J43: =Lähtötiedot_kustannukset!$B$43 -> 3360 | K43: =Lähtötiedot_kustannukset!$B$43 -> 3360 | L43: =Lähtötiedot_kustannukset!$B$43 -> 3360 | M43: =Lähtötiedot_kustannukset!$B$43 -> 3360 | ... Y43: =Lähtötiedot_kustannukset!$B$43 -> 3360
A45: Tuotot
A46: Biohiilen myyntituotto | F46: =Lähtötiedot_tuotot!$D$6 -> 44800 | G46: =Lähtötiedot_tuotot!$D$6 -> 44800 | H46: =Lähtötiedot_tuotot!$D$6 -> 44800 | I46: =Lähtötiedot_tuotot!$D$6 -> 44800 | J46: =Lähtötiedot_tuotot!$D$6 -> 44800 | K46: =Lähtötiedot_tuotot!$D$6 -> 44800 | L46: =Lähtötiedot_tuotot!$D$6 -> 44800 | M46: =Lähtötiedot_tuotot!$D$6 -> 44800 | ... Y46: =Lähtötiedot_tuotot!$D$6 -> 44800 | Z46: =SUM(B46:Y46) -> 896000
A47: Hiilikrediitit | F47: =Lähtötiedot_tuotot!$D$8 -> 21840 | G47: =Lähtötiedot_tuotot!$D$8 -> 21840 | H47: =Lähtötiedot_tuotot!$D$8 -> 21840 | I47: =Lähtötiedot_tuotot!$D$8 -> 21840 | J47: =Lähtötiedot_tuotot!$D$8 -> 21840 | K47: =Lähtötiedot_tuotot!$D$8 -> 21840 | L47: =Lähtötiedot_tuotot!$D$8 -> 21840 | M47: =Lähtötiedot_tuotot!$D$8 -> 21840 | ... Y47: =Lähtötiedot_tuotot!$D$8 -> 21840 | Z47: =SUM(B47:Y47) -> 436800
A48: Lämmön myynti | F48: =Lähtötiedot_tuotot!$D$7 -> 30240 | G48: =Lähtötiedot_tuotot!$D$7 -> 30240 | H48: =Lähtötiedot_tuotot!$D$7 -> 30240 | I48: =Lähtötiedot_tuotot!$D$7 -> 30240 | J48: =Lähtötiedot_tuotot!$D$7 -> 30240 | K48: =Lähtötiedot_tuotot!$D$7 -> 30240 | L48: =Lähtötiedot_tuotot!$D$7 -> 30240 | M48: =Lähtötiedot_tuotot!$D$7 -> 30240 | ... Y48: =Lähtötiedot_tuotot!$D$7 -> 30240 | Z48: =SUM(B48:Y48) -> 604800
A52: KASSAVIRTA
A53: Nimellinen (ei korkoa):
A54: Vuoden menot yht. | B54: =SUM(B17:B44) -> 30406.11 | C54: =SUM(C17:C44) -> 39750.852 | D54: =SUM(D17:D44) -> 41816.802 | E54: =SUM(E17:E44) -> 322782.75 | F54: =SUM(F17:F44) -> 63059.034 | G54: =SUM(G17:G44) -> 55780.242 | H54: =SUM(H17:H44) -> 55780.242 | I54: =SUM(I17:I44) -> 55780.242 | ... Y54: =SUM(Y17:Y44) -> 53193.6 | Z54: =SUM(B54:Y54) -> 1580283.7 | AA54: Kaikki kustannukset yhteensä
A55: Vuoden tulot yht. | B55: =SUM(B45:B49) -> 0 | C55: =SUM(C45:C49) -> 0 | D55: =SUM(D45:D49) -> 0 | E55: =SUM(E45:E49) -> 0 | F55: =SUM(F45:F49) -> 96880 | G55: =SUM(G45:G49) -> 96880 | H55: =SUM(H45:H49) -> 96880 | I55: =SUM(I45:I49) -> 96880 | ... Y55: =SUM(Y45:Y49) -> 96880 | Z55: =SUM(B55:Y55) -> 1937600 | AA55: Kaikki tulot yhteensä
A56: Nettokassavirta | B56: =SUM(B45:B49)-SUM(B17:B43) -> -30406.11 | C56: =SUM(C45:C49)-SUM(C17:C43) -> -39750.852 | D56: =SUM(D45:D49)-SUM(D17:D43) -> -41816.802 | E56: =SUM(E45:E49)-SUM(E17:E43) -> -322782.75 | F56: =SUM(F45:F49)-SUM(F17:F43) -> 33820.966 | G56: =SUM(G45:G49)-SUM(G17:G43) -> 41099.758 | H56: =SUM(H45:H49)-SUM(H17:H43) -> 41099.758 | I56: =SUM(I45:I49)-SUM(I17:I43) -> 41099.758 | ... Y56: =SUM(Y45:Y49)-SUM(Y17:Y43) -> 43686.4 | Z56: =SUM(B56:Y56) -> 357316.34 | AA56: nettokassavirta yht.
A57: Kumulatiivinen nettokassavirta | B57: =SUM(B46:B53)-SUM(B38:B43) -> 0 | C57: =B57+(SUM(C45:C49)-SUM(C17:C43)) -> -39750.852 | D57: =C57+(SUM(D45:D49)-SUM(D17:D43)) -> -81567.655 | E57: =D57+(SUM(E45:E49)-SUM(E17:E43)) -> -404350.41 | F57: =E57+(SUM(F45:F49)-SUM(F17:F43)) -> -370529.44 | G57: =F57+(SUM(G45:G49)-SUM(G17:G43)) -> -329429.68 | H57: =G57+(SUM(H45:H49)-SUM(H17:H43)) -> -288329.93 | I57: =H57+(SUM(I45:I49)-SUM(I17:I43)) -> -247230.17 | J57: =I57+(SUM(J45:J49)-SUM(J17:J43)) -> -206130.41 | ... Y57: =X57+(SUM(Y45:Y49)-SUM(Y17:Y43)) -> 387722.45
A58: Takaisinmaksuajan etsintä | B58: =IF(B57>0,"+","") | C58: =IF(C57>0,"+","") | D58: =IF(D57>0,"+","") | E58: =IF(E57>0,"+","") | F58: =IF(F57>0,"+","") | G58: =IF(G57>0,"+","") | H58: =IF(H57>0,"+","") | I58: =IF(I57>0,"+","") | ... Y58: =IF(Y57>0,"+","") -> +
A59: Diskontattu:
A60: Vuoden diskontatut menot | B60: =B54/(1+$B$7)^B16 -> 30406.11 | C60: =C54/(1+$B$7)^C16 -> 37857.955 | D60: =D54/(1+$B$7)^D16 -> 37929.073 | E60: =E54/(1+$B$7)^E16 -> 278831.88 | F60: =F54/(1+$B$7)^F16 -> 51878.824 | G60: =G54/(1+$B$7)^G16 -> 43705.279 | H60: =H54/(1+$B$7)^H16 -> 41624.075 | I60: =I54/(1+$B$7)^I16 -> 39641.977 | ... Y60: =Y54/(1+$B$7)^Y16 -> 17318.31 | Z60: =SUM(B60:Y60) -> 999799.39 | AA60: diskontatut kustannukset yht.
A61: Vuoden diskontatut tulot yht. | B61: =B55/(1+$B$7)^B16 -> 0 | C61: =C55/(1+$B$7)^C16 -> 0 | D61: =D55/(1+$B$7)^D16 -> 0 | E61: =E55/(1+$B$7)^E16 -> 0 | F61: =F55/(1+$B$7)^F16 -> 79703.416 | G61: =G55/(1+$B$7)^G16 -> 75908.015 | H61: =H55/(1+$B$7)^H16 -> 72293.348 | I61: =I55/(1+$B$7)^I16 -> 68850.807 | ... Y61: =Y55/(1+$B$7)^Y16 -> 31541.348 | Z61: =SUM(B61:Y61) -> 1042944.8 | AA61: diskontatut tulot yht.
A63: Diskontattu nettokassavirta | B63: =B56/(1+$B$7)^B16 -> -30406.11 | C63: =C56/(1+$B$7)^C16 -> -37857.955 | D63: =D56/(1+$B$7)^D16 -> -37929.073 | E63: =E56/(1+$B$7)^E16 -> -278831.88 | F63: =F56/(1+$B$7)^F16 -> 27824.592 | G63: =G56/(1+$B$7)^G16 -> 32202.736 | H63: =H56/(1+$B$7)^H16 -> 30669.272 | I63: =I56/(1+$B$7)^I16 -> 29208.831 | ... Y63: =Y56/(1+$B$7)^Y16 -> 14223.038 | Z63: =SUM(B63:Y63) -> 43145.382 | AA63: diskontattu nettokassavirta yht.
A64: Kumulatiivinen diskontattu kassavirta | B64: =B63 -> -30406.11 | C64: =B64+C63 -> -68264.065 | D64: =C64+D63 -> -106193.14 | E64: =D64+E63 -> -385025.01 | F64: =E64+F63 -> -357200.42 | G64: =F64+G63 -> -324997.69 | H64: =G64+H63 -> -294328.41 | I64: =H64+I63 -> -265119.58 | J64: =I64+J63 -> -237301.65 | ... Y64: =X64+Y63 -> 43145.382
A65: Diskontattu takaisinmaksuaika etsintä | B65: =IF(B64>0,"+","") | C65: =IF(C64>0,"+","") | D65: =IF(D64>0,"+","") | E65: =IF(E64>0,"+","") | F65: =IF(F64>0,"+","") | G65: =IF(G64>0,"+","") | H65: =IF(H64>0,"+","") | I65: =IF(I64>0,"+","") | ... Y65: =IF(Y64>0,"+","") -> +

Sheet Lähtötiedot_kustannukset
A1: Pajubiohiilituotanto, kassavirtalaskelman lähtötietoja
A3: Viljelyn kustannukset | B3: €/ha | C3: Lähde | D3: Lisätietoa | E3: Vaihtoehtoisia kustannustietoja
A4: Viljelysmaan perustaminen
A5: Ojitus + ojarumpu | B5: 752.4 | C5: Awuah ym. 2026 | D5: Neovan Karhunsuon koeviljelmä, mukana tierumpu 57 € (kappalehinta) sekä ojitustyö 695 €/ha
A6: Maanmuokkaustyöt | B6: 44 | C6: Viherä-Aarnio ym. 2022 | D6: Pelkkä äestys | E6: Awuah ym. 2026: soil leveling 91 €/ha
A7: Rikantorjunta, glyfosaatti + levitys | B7: 150.84 | C7: Awuah ym. 2026 | D7: Glyfosaattia 6 L/ha, hinta 21,49 €/L, levitys 22€/ha. | E7: Viherä-Aarnio ym. 2022 lähteessä paljon halvempi.
A8: pH:n nosto: tuhka (vaihtoehtoinen) + kuljetus | B8: =6*25+100/1.5 -> 216.66667 | C8: Carbons Finland Oy 2020 | D8: Tuhka 6 tn/ha, 25 €/tn. + levityskustannus: 100€/ha / 1,5 ha/h = 67 €/ha | E8: Lähteessä Viherä-Aarnio ym. 2022 sekä Awuah ym. 2026 paljon kalliimpi: (Viherä-Aarnio ym. 2022: 370 €/ha levitysmäärällä 5 t/ha
A9: Lannoitus: karjanlanta + kuljetus | B9: 762.75472 | C9: Awuah ym. 2026 ja Viherä-Aarnio ym. 2022 | D9: Lietelannan hinta 10 €/tn (Awuah ym. 2026), määrä 30 t/ha (Suutari 2020, Kurki 2016). Kuljetus + levitys 442 €/ha 10 km päähän. Levitys multaavalla vaunulla.
A10: pH:n nosto: kalkki + levitys | B10: 271 | C10: Awuah ym. 2026 | D10: 10 tn/ha, kustannus 21 €/tn. | E10: Lähteessä Viherä-Aarnio ym. 2022 määrä 6 tn/ha ja kustannus 41,6 €/tn --> 2 x kalliimpi, levityskustannus mukana hinnassa?
A11: Lannoitus: mineraalilannoitus
A13: Istuttaminen
A14: Pistokkaat | B14: 1560 | C14: Awuah ym. 2026 | D14: 13000 pistokasta /ha, a´hinta 0,12 €, lähde: Awuah ym. 2026 (Neovan Karhunsuon koeviljelmä) | E14: Lähteessä Viherä-Aarnio ym. 2022: Pistokkaat (12 800 kpl + istutus) = 2406 €/ha
A15: Istutustyön hinta | B15: 425 | C15: Carbons Finland Oy 2020 | D15: Koneellinen istutus Suutarin kaksirivisellä istutuskoneilla.
A16: Alasleikkuu | B16: 46 | C16: Viherä-Aarnio ym. 2022 | D16: Alasleikkuu istutusta seuraavana vuonna, jotta paju saadaan haaroittumaan.
A18: Sadonkorjuu ja hoito
A19: Korjuukustannus ajosilppurilla | B19: 1006.4 | C19: Awuah ym. 2026 | D19: Kustannus per korjuukerta. 37 €/k-a tn, korjuu ajosilppurilla, korjuu ja haketus samalla koneella.
A20: Korjuukustannus kokorankana energiapuupuimurilla | B20: =19.7*13.6*4 -> 1071.68 | C20: Vanbeveren ym. (2017) | D20: Cut-and-bale -koneen kustannusten keskiarvo Vanbeveren ym. Artikkelista (tuoresato), laskettu tuoresato 13,6 t/ha/vuosi (kuiva-ainesadosta 6,8 t ka/ha/vuosi) 4 vuoden sadonkorjuuvälillä
A21: Korjuukustannus RisuPedolla rangoiksi | B21: 1200 | C21: Kouvolan vierailu 27.3.2025 | D21: Kouvolan vierailulta tieto, että Risupedon työtahti 1000 m2 / h = 0,1 ha / h --> 1 ha/10 h . Risupedon tuntihinnalla (saatu yrittäjältä) 120 €/h korjuukustannus 1200 €/ha
A22: Lannoitus sadonkorjuun jälkeen | B22: 762.75472 | C22: Awuah ym. 2026 ja Viherä-Aarnio ym. 2022 | D22: Lannoituskustannus per lannoituskerta. Sama kuin perustamislannoitus eli maksimi. HUOM kerro sadonkorjuun määrillä -1
A24: Lopetus
A25: Kasvuston kemiallinen lopetus + jyrsintä | B25: 1164 | C25: Viherä-Aarnio ym. 2022 | D25: Kasvuston kemiallinen tuhoaminen (glyfosaattivalmiste 6—8 I/ha), kantojen jyrsintä
A27: Muut kustannukset
A28: Maa-alueen vuokra | B28: 229.55 | C28: Awuah ym. 2026 | D28: Entisen turvetuotantoalueen vuokra
A30: Logistiikkakustannus
A31: Hakkeen siirto 20-40 km | B31: =8788.82681564246/9 -> 976.53631 | C31: Awuah ym. 2026 | D31: Kuljetuksen yksikköhinta Awuah ym. 2026 artikkelista 6,9 €/m3, satotasolla 6,8 t k-a/ha/vuosi vuodessa 9 ha:lta kasakuivaa haketta 1274 i-m3
A33: Haketuksen kustannus
A34: Haketus | B34: =2990.7027027027/9 -> 332.3003 | C34: Luhas ym. (2022) | D34: Haketuksen yksikköhinta 9,1 €/t, haketusmäärässä huomioitu, että paju kasakuivaa (25 % kosteus)
A36: Biohiililaitoksen kustannukset | B36: €/vuosi | C36: Lähde | D36: Lisätietoa | E36: Sarake1
A37: Biohiililaitteisto + lisäosat | B37: 108900 | C37: Juva (2023) | D37: BioMacon 63 kW
A38: Biohiilen automaattinen poistojärjestelmä | B38: 15000 | C38: Juva (2023) | D38: BioMacon poistojärjestelmä
A39: Biohiilen automaattinen säkitysjärjestelmä | B39: 15000 | C39: Juva (2023) | D39: BioMacon säkitysjärjestelmä
A40: Rakennus | B40: 120000 | C40: Juva (2023)
A41: Varastot / katokset + muu infra | B41: 20000 | C41: Oma arvio
A42: Oman työn kustannukset | B42: 7500 | C42: Mukaillen Vna 214/2014 | D42: Vna 240/2015:n maatalousyrittäjän oman työn arvon (15 €/h) ja koneella tehdyn työn arvon (30 €/h) perusteella arvioitu keskimääräinen kustannus 25 €/h
A43: Energiankulutus (pyrolyysilaitteisto) | B43: 3360 | C43: BioMacon (2021) | D43: Laitteiston sähkönkulutuksen ja sähkön hinnan 0,12 €/kWh perusteella
A44: Käyttö- ja ylläpitokustannukset | B44: 8367 | C44: Oma arvio | D44: 3 % investoinnin kokonaiskustannuksista. Huom! Karkea arvio, REACH, ympäristölupa, hiilenpoiston sertifioinnit ym. voivat olla prosentuaalisesti pienen mittakaavan tuotannossa korkeampiakin.
A47: Mainitut lähdeaineistot:
A48: Awuah, J., Pappinen, A., Laasasenaho, K., Hassan, M. K., Lauhanen, R., & Kuittinen, S. (2026). Evaluating the investment attractiveness and carbon credit potential of short rotation willow plantation on a cutaway peatland. Industrial Crops & Products, 240, 122567. https://doi.org/10.1016/j.indcrop.2025.122567
A49: Viherä-Aarnio, A., Jyske, T., Beuker, E., Kaseva, J., & Sarjala, T. (toim.). (2022). Pajut biokiertotaloudessa: Materiaaleja, arvoaineita, ympäristöhyötyjä: Synteesiraportti. Luonnonvara- ja biotalouden tutkimus 11/2022. Luonnonvarakeskus.
A50: Luhas, J., Marttila, M., Leppäkoski, L., Mikkilä, M., Uusitalo, V., & Linnanen, L. (2022). A financial and environmental sustainability of circular bioeconomy: A case study of short rotation coppice, biochar and greenhouse production in southern Finland. Biomass and Bioenergy, 163, 106524. https://doi.org/10.1016/j.biombioe.2022.106524
A51: Carbons Finland Oy. (2020). Pajujen kasvatusohjeet: Kesä 2020. https://carbons.fi/wp-content/uploads/2020/11/Tuotekortti-Pajun-kasvatus-0720.pdf
A52: Vanbeveren, S. P. P., Spinelli, R., Eisenbies, M., Schweier, J., Mola-Yudego, B., Magagnotti, N., Acuna, M., Dimitriou, I., & Ceulemans, R. (2017). Mechanised harvesting of short-rotation coppices. Renewable and Sustainable Energy Reviews, 76, 90–104. https://doi.org/10.1016/j.rser.2017.02.059
A53: Nasdaq. (n.d.). Puro.earth: The world's leading carbon removal platform. https://www.nasdaq.com/products/european-markets/carbon-removal-platform
A54: BIOMACON GmbH. (2021). Pyrolysis boiler C63-F [Product datasheet]. https://ab8199f1-f56c-4f07-9543-38a7074767a8.filesusr.com/ugd/1fc82b_37000804c88d45789ca2b7f9be2224e2.pdf
A55: Juva, K. (2023). Maatilamittakaavan biohiilituotannon mahdollisuudet ja kannattavuus. Opinnäytetyö (AMK). https://urn.fi/URN:NBN:fi:amk-202304175408
Q69: =Lähtötiedot_kustannukset!B6 -> 44

Sheet Lähtötiedot_tuotot
A1: Pajubiohiilituotanto, kassavirtalaskelman lähtötietoja
A3: Pyrolyysilaitteisto: | B3: BioMacon 63 kW
A5: Tuotot | B5: Yksikköhinta | C5: Yksikköä (kpl) | D5: Yhteensä | E5: Yksikkö | F5: Lisätiedot
A6: Biohiilen myynti | B6: 800 | C6: =B14 -> 56 | D6: =B6*C6 -> 44800 | E6: €/vuosi
A7: Lämpöenergian myynti | B7: 0.1 | C7: =B12*63 -> 504000 | D7: =B7*C7*0.6 -> 30240 | E7: €/vuosi | F7: Jos 60 % tuotetusta lämpöenergiasta myydään ja loput käytetään pajuhakkeen kuivaukseen
A8: Hiilikrediittien myynti | B8: 130 | C8: =3*C6 -> 168 | D8: =B8*C8 -> 21840 | E8: €/vuosi | F8: Yksi tuotettu biohiilitonni vastaa noin kolmea sidottua hiilidioksiditonnia
A11: Tuottojen laskennassa käytettyjä lähtötietoja | B11: Arvo | C11: Yksikkö | D11: Lisätiedot
A12: Pyrolyysilaitteiston käyttötunnit vuodessa | B12: 8000 | C12: h/vuosi | D12: BioMacon 63 kW, 8000 h on maksimikapasiteetti
A13: Pyrolyysilaittesiton tuottama biohiilimäärä | B13: 7 | C13: kg/h | D13: BioMacon 63 kW, laitteiston esitteestä
A14: Pyrolyysilaitteiston tuottama biohiilimäärä | B14: =B13*B12/1000 -> 56 | C14: t/vuosi
A15: Pyrolyysilaitteiston tarvitsema raaka-ainemäärä laitteiston ilmoittamassa kosteudessa | B15: 38 | C15: kg/h | D15: Määrä 20 % kosteudessa (laitteiston tiedoista)
A16: Pyrolyysilaitteiston tarvitsema raaka-ainemäärä kuiva-aineena | B16: =B15*0.8 -> 30.4 | C16: kg/h | D16: Määrä kuiva-aineena
A17: Pyrolyysilaittesiton tarvitsema raaka-ainemäärä kuiva-aineena vuodessa | B17: =B16*B12/1000 -> 243.2 | C17: t ka/vuosi | D17: Laitteiston tarvitsema raaka-ainemäärä kuiva-aineena vuodessa
A18: Pajuviljelmän hehtaarisato kuiva-aineena vuodessa | B18: 6.8 | C18: t ka/ha/v
A19: Raaka-aineen tuottamiseen tarvittava pinta-ala | B19: =B17/B18 -> 35.764706 | C19: ha
A20: Pyrolyysilaitteiston lämmöntuotantoteho | B20: 63 | C20: kW | D20: BioMacon 63 kW
