Workbook

Sheet Ohje työkirjan käyttöön
A1: OHJE KASSAVIRTALASKELMAN KÄYTTÖÖN
A3: Mitä laskelmalla voi tehdä?
A4: Kassavirtalaskelma-välilehden avulla voi arvioida suunnitellun pajubiohiilen tuotannon kassavirtaa ja kannattavuutta 24 vuoden tarkastelujaksolla.
A5: Laskentapohjassa on valmiina Pajuarvoketjuista uutta liiketoimintaa -hankkeessa laadittu esimerkkilaskelma liiketoimintamallista, jossa toimija viljelee biohiilen raaka-aineena käytettävän pajun sekä tuottaa ja myy biohiiltä. Laskelmassa syntyy tuottoja myös pyrolyysissä muodostuvan lämpöenergian ja hiilikrediittien myynnistä.
A6: Laskentapohjaa voi muokata oman suunnitellun liiketoiminnan tarkasteluun.
A8: Mistä lähtötiedot löytyvät?
A9: Esimerkkilaskelmassa käytettyjä kustannus- ja tuottotietoja sekä niiden lähteitä on koottu välilehdille Lähtötiedot_kustannukset ja Lähtötiedot_tuotot. Kassavirtalaskelman kaavat hakevat tietoja näiltä välilehdiltä.
A10: Lähtötiedoissa kuvataan muun muassa pajun viljelyn, korjuun ja logistiikan kustannuksia, biohiililaitoksen investointi- ja käyttökustannuksia sekä biohiilen, lämpöenergian ja hiilikrediittien myynnistä saatavia tuottoja.
A12: Miten laskelmaa voi muokata?
A13: Laskelmaa voi muokata omaan suunniteltuun liiketoimintaan sopivaksi kahdella tavalla:
A14: Lähtötietoja muuttamalla: Esimerkkilaskelmassa käytettyjä kustannus- ja tuottotietoja voi muuttaa Lähtötiedot_kustannukset- ja Lähtötiedot_tuotot -välilehdillä. Kassavirtalaskelman kaavat hakevat muuttuneet tiedot näiltä välilehdiltä.
A15: Muokkaamalla kassavirtataulukkoa suoraan: Kustannus- ja tuottoeriä voi lisätä, poistaa tai muuttaa suoraan kassavirtalaskelman välilehdellä omaa liiketoimintaa vastaaviksi. Huomaa, että solussa oleva kaava poistuu, jos sen päälle kirjoitetaan uusi arvo.
... A31: Esimerkkilaskelman tulokset eivät sellaisenaan kuvaa yksittäisen yrityksen toteutuvan liiketoiminnan kannattavuutta. Tarkempi arviointi edellyttää tapauskohtaisia tietoja muun muassa käytettävästä tuotantotekniikasta, investoinneista, lämmön hyödyntämismahdollisuuksista sekä tavoitellusta biohiilituotteesta ja sen markkinasta.

Sheet Biohiili_kassavirta
A1: KASSAVIRTALASKELMA PAJUN VILJELY JA PAJUBIOHIILEN TUOTANTO
A3: Lähtötiedot
A4: Biomacon 63 kW-pyrolyysilaitteisto
A5: HUOM! Laskelmassa 36 ha pajuviljelmä perustetaan vaiheittain siten, että joka vuosi perustetaan 9 ha viljelmä ensimmäisen neljän vuoden aikana. Ensimmäisen neljän viljelyvuoden jälkeen joka vuosi korjataan sato 9 hehtaarilta, jolloin kasvusto on neljävuotias. Biohiilituotanto alkaa samana vuonna kuin on ensimmäinen sadonkorjuu.
A7: Diskonttokorko | B7: 0.05 | C7: (voi muuttaa oman tuottovaatimuksen/pääoman kustannuksen mukaiseksi)
A9: KASSAVIRTALASKELMAN TULOKSET
A10: NPV eli nettonykyarvo | B10: =B56+NPV(B7,C56:Y56) -> 43145.382
A11: IRR eli sisäinen korkokanta eli tuottoprosentti | B11: =IRR(B56:Y56) -> 0.062180833
A12: Takaisinmaksuaika | B12: {=MATCH(TRUE,B64:Y64>0,0)-1} -> 20 | C12: vuotta
A14: Pajubiohiilituotannon kassavirta
B15: Vuosi
A16: Biohiilituotanto | B16: 0 | C16: 1 | D16: 2 | E16: 3 | F16: 4 | G16: 5 | H16: 6 | I16: 7 | J16: 8 | K16: 9 | L16: 10 | M16: 11 | N16: 12 | O16: 13 | P16: 14 | Q16: 15 | R16: 16 | S16: 17 | T16: 18 | U16: 19 | V16: 20 | W16: 21 | X16: 22 | Y16: 23
A17: Kustannukset
A18: Lohkon perustaminen
A19: Ojitus | B19: =Lähtötiedot_kustannukset!$B$5*9 -> 6771.6 | C19: =Lähtötiedot_kustannukset!$B$5*9 -> 6771.6 | D19: =Lähtötiedot_kustannukset!$B$5*9 -> 6771.6 | E19: =Lähtötiedot_kustannukset!$B$5*9 -> 6771.6
A20: Maanmuokkaustyöt | B20: =Lähtötiedot_kustannukset!$B$6*9 -> 396 | C20: =Lähtötiedot_kustannukset!$B$6*9 -> 396 | D20: =Lähtötiedot_kustannukset!$B$6*9 -> 396 | E20: =Lähtötiedot_kustannukset!$B$6*9 -> 396
A21: Rikantorjunta, glyfosaatti + levitys | B21: =Lähtötiedot_kustannukset!$B$7*9 -> 1357.56 | C21: =Lähtötiedot_kustannukset!$B$7*9 -> 1357.56 | D21: =Lähtötiedot_kustannukset!$B$7*9 -> 1357.56 | E21: =Lähtötiedot_kustannukset!$B$7*9 -> 1357.56
A22: pH:n nosto: tuhka + kuljetus | B22: =Lähtötiedot_kustannukset!$B$8*9 -> 1950 | C22: =Lähtötiedot_kustannukset!$B$8*9 -> 1950 | D22: =Lähtötiedot_kustannukset!$B$8*9 -> 1950 | E22: =Lähtötiedot_kustannukset!$B$8*9 -> 1950
A23: Lannoitus: karjanlanta + kuljetus | C23: =Lähtötiedot_kustannukset!$B$22*9 -> 6864.7925 | D23: =Lähtötiedot_kustannukset!$B$22*9 -> 6864.7925 | E23: =Lähtötiedot_kustannukset!$B$22*9 -> 6864.7925 | F23: =Lähtötiedot_kustannukset!$B$22*9 -> 6864.7925
A24: Istutus
A25: Pistokkaat | B25: =Lähtötiedot_kustannukset!$B$14*9 -> 14040 | C25: =Lähtötiedot_kustannukset!$B$14*9 -> 14040 | D25: =Lähtötiedot_kustannukset!$B$14*9 -> 14040 | E25: =Lähtötiedot_kustannukset!$B$14*9 -> 14040
A26: Istutustyö | B26: =Lähtötiedot_kustannukset!$B$15*9 -> 3825 | C26: =Lähtötiedot_kustannukset!$B$15*9 -> 3825 | D26: =Lähtötiedot_kustannukset!$B$15*9 -> 3825 | E26: =Lähtötiedot_kustannukset!$B$15*9 -> 3825
A27: Alasleikkuu | C27: =Lähtötiedot_kustannukset!$B$16*9 -> 414 | D27: =Lähtötiedot_kustannukset!$B$16*9 -> 414 | E27: =Lähtötiedot_kustannukset!$B$16*9 -> 414 | F27: =Lähtötiedot_kustannukset!$B$16*9 -> 414
A28: Sadonkorjuu ja hoito
A29: Korjauskustannus (korjuu kokorankana) | F29: =Lähtötiedot_kustannukset!$B$20*9 -> 9645.12 | G29: =Lähtötiedot_kustannukset!$B$20*9 -> 9645.12 | H29: =Lähtötiedot_kustannukset!$B$20*9 -> 9645.12 | I29: =Lähtötiedot_kustannukset!$B$20*9 -> 9645.12 | J29: =Lähtötiedot_kustannukset!$B$20*9 -> 9645.12 | K29: =Lähtötiedot_kustannukset!$B$20*9 -> 9645.12 | L29: =Lähtötiedot_kustannukset!$B$20*9 -> 9645.12 | M29: =Lähtötiedot_kustannukset!$B$20*9 -> 9645.12 | ... Y29: =Lähtötiedot_kustannukset!$B$20*9 -> 9645.12
A30: Haketuskustannus | F30: =Lähtötiedot_kustannukset!$B$34*9 -> 2990.7027 | G30: =Lähtötiedot_kustannukset!$B$34*9 -> 2990.7027 | H30: =Lähtötiedot_kustannukset!$B$34*9 -> 2990.7027 | I30: =Lähtötiedot_kustannukset!$B$34*9 -> 2990.7027 | J30: =Lähtötiedot_kustannukset!$B$34*9 -> 2990.7027 | K30: =Lähtötiedot_kustannukset!$B$34*9 -> 2990.7027 | L30: =Lähtötiedot_kustannukset!$B$34*9 -> 2990.7027 | M30: =Lähtötiedot_kustannukset!$B$34*9 -> 2990.7027 | ... Y30: =Lähtötiedot_kustannukset!$B$34*9 -> 2990.7027
A31: Logistiikkakustannus (hakkeen siirto 20-40 km) | F31: =Lähtötiedot_kustannukset!$B$31*9 -> 8788.8268 | G31: =Lähtötiedot_kustannukset!$B$31*9 -> 8788.8268 | H31: =Lähtötiedot_kustannukset!$B$31*9 -> 8788.8268 | I31: =Lähtötiedot_kustannukset!$B$31*9 -> 8788.8268 | J31: =Lähtötiedot_kustannukset!$B$31*9 -> 8788.8268 | K31: =Lähtötiedot_kustannukset!$B$31*9 -> 8788.8268 | L31: =Lähtötiedot_kustannukset!$B$31*9 -> 8788.8268 | M31: =Lähtötiedot_kustannukset!$B$31*9 -> 8788.8268 | ... Y31: =Lähtötiedot_kustannukset!$B$31*9 -> 8788.8268
A32: Lannoitus sadonkorjuun jälkeen (karjanlanta + kuljetus) | F32: =Lähtötiedot_kustannukset!$B$22*9 -> 6864.7925 | G32: =Lähtötiedot_kustannukset!$B$22*9 -> 6864.7925 | H32: =Lähtötiedot_kustannukset!$B$22*9 -> 6864.7925 | I32: =Lähtötiedot_kustannukset!$B$22*9 -> 6864.7925 | J32: =Lähtötiedot_kustannukset!$B$22*9 -> 6864.7925 | K32: =Lähtötiedot_kustannukset!$B$22*9 -> 6864.7925 | L32: =Lähtötiedot_kustannukset!$B$22*9 -> 6864.7925 | M32: =Lähtötiedot_kustannukset!$B$22*9 -> 6864.7925 | ... X32: =Lähtötiedot_kustannukset!$B$22*9 -> 6864.7925
A33: Lopetus
A34: Kasvuston kemiallinen lopetus + jyrsintä | V34: =Lähtötiedot_kustannukset!$B$25*9 -> 10476 | W34: =Lähtötiedot_kustannukset!$B$25*9 -> 10476 | X34: =Lähtötiedot_kustannukset!$B$25*9 -> 10476 | Y34: =Lähtötiedot_kustannukset!$B$25*9 -> 10476
A35: Muut kustannukset
A36: Maa-alueen kustannukset, suo: vuokra | B36: =Lähtötiedot_kustannukset!$B$28*9 -> 2065.95 | C36: =Lähtötiedot_kustannukset!$B$28*18 -> 4131.9 | D36: =Lähtötiedot_kustannukset!$B$28*27 -> 6197.85 | E36: =Lähtötiedot_kustannukset!$B$28*36 -> 8263.8 | F36: =Lähtötiedot_kustannukset!$B$28*36 -> 8263.8 | G36: =Lähtötiedot_kustannukset!$B$28*36 -> 8263.8 | H36: =Lähtötiedot_kustannukset!$B$28*36 -> 8263.8 | I36: =Lähtötiedot_kustannukset!$B$28*36 -> 8263.8 | J36: =Lähtötiedot_kustannukset!$B$28*36 -> 8263.8 | K36: =Lähtötiedot_kustannukset!$B$28*36 -> 8263.8 | L36: =Lähtötiedot_kustannukset!$B$28*36 -> 8263.8 | ... V36: =Lähtötiedot_kustannukset!$B$28*36 -> 8263.8 | W36: =Lähtötiedot_kustannukset!$B$28*27 -> 6197.85 | X36: =Lähtötiedot_kustannukset!$B$28*18 -> 4131.9 | Y36: =Lähtötiedot_kustannukset!$B$28*9 -> 2065.95
A37: Biohiilituotanto
A38: Biohiililaitosinvestointi (sis. rakennus) | E38: =SUM(Lähtötiedot_kustannukset!B37:B40) -> 258900
A39: Kuivauslaitteistoinvestointi
A40: Investoinnit varastoihin ym. Infraan | E40: =Lähtötiedot_kustannukset!B41 -> 20000
A41: Käyttö- ja ylläpito (huollot, vakuutukset, luvat, labrat jne.) | F41: =Lähtötiedot_kustannukset!$B$44 -> 8367 | G41: =Lähtötiedot_kustannukset!$B$44 -> 8367 | H41: =Lähtötiedot_kustannukset!$B$44 -> 8367 | I41: =Lähtötiedot_kustannukset!$B$44 -> 8367 | J41: =Lähtötiedot_kustannukset!$B$44 -> 8367 | K41: =Lähtötiedot_kustannukset!$B$44 -> 8367 | L41: =Lähtötiedot_kustannukset!$B$44 -> 8367 | M41: =Lähtötiedot_kustannukset!$B$44 -> 8367 | ... Y41: =Lähtötiedot_kustannukset!$B$44 -> 8367
A42: Työvoimakustannukset | F42: =Lähtötiedot_kustannukset!$B$42 -> 7500 | G42: =Lähtötiedot_kustannukset!$B$42 -> 7500 | H42: =Lähtötiedot_kustannukset!$B$42 -> 7500 | I42: =Lähtötiedot_kustannukset!$B$42 -> 7500 | J42: =Lähtötiedot_kustannukset!$B$42 -> 7500 | K42: =Lähtötiedot_kustannukset!$B$42 -> 7500 | L42: =Lähtötiedot_kustannukset!$B$42 -> 7500 | M42: =Lähtötiedot_kustannukset!$B$42 -> 7500 | ... Y42: =Lähtötiedot_kustannukset!$B$42 -> 7500
A43: Laitoksen energiankulutus (sis- pyrolyysi ja kuivaus) | F43: =Lähtötiedot_kustannukset!$B$43 -> 3360 | G43: =Lähtötiedot_kustannukset!$B$43 -> 3360 | H43: =Lähtötiedot_kustannukset!$B$43 -> 3360 | I43: =Lähtötiedot_kustannukset!$B$43 -> 3360 | J43: =Lähtötiedot_kustannukset!$B$43 -> 3360 | K43: =Lähtötiedot_kustannukset!$B$43 -> 3360 | L43: =Lähtötiedot_kustannukset!$B$43 -> 3360 | M43: =Lähtötiedot_kustannukset!$B$43 -> 3360 | ... Y43: =Lähtötiedot_kustannukset!$B$43 -> 3360
A45: Tuotot
...

Sheet Lähtötiedot_kustannukset
A1: Pajubiohiilituotanto, kassavirtalaskelman lähtötietoja
A3: Viljelyn kustannukset | B3: €/ha | C3: Lähde | D3: Lisätietoa | E3: Vaihtoehtoisia kustannustietoja
A4: Viljelysmaan perustaminen
A5: Ojitus + ojarumpu | B5: 752.4 | C5: Awuah ym. 2026 | D5: Neovan Karhunsuon koeviljelmä, mukana tierumpu 57 € (kappalehinta) sekä ojitustyö 695 €/ha
A6: Maanmuokkaustyöt | B6: 44 | C6: Viherä-Aarnio ym. 2022 | D6: Pelkkä äestys | E6: Awuah ym. 2026: soil leveling 91 €/ha
A7: Rikantorjunta, glyfosaatti + levitys | B7: 150.84 | C7: Awuah ym. 2026 | D7: Glyfosaattia 6 L/ha, hinta 21,49 €/L, levitys 22€/ha. | E7: Viherä-Aarnio ym. 2022 lähteessä paljon halvempi.
A8: pH:n nosto: tuhka (vaihtoehtoinen) + kuljetus | B8: =6*25+100/1.5 -> 216.66667 | C8: Carbons Finland Oy 2020 | D8: Tuhka 6 tn/ha, 25 €/tn. + levityskustannus: 100€/ha / 1,5 ha/h = 67 €/ha | E8: Lähteessä Viherä-Aarnio ym. 2022 sekä Awuah ym. 2026 paljon kalliimpi: (Viherä-Aarnio ym. 2022: 370 €/ha levitysmäärällä 5 t/ha
A9: Lannoitus: karjanlanta + kuljetus | B9: 762.75472 | C9: Awuah ym. 2026 ja Viherä-Aarnio ym. 2022 | D9: Lietelannan hinta 10 €/tn (Awuah ym. 2026), määrä 30 t/ha (Suutari 2020, Kurki 2016). Kuljetus + levitys 442 €/ha 10 km päähän. Levitys multaavalla vaunulla.
A10: pH:n nosto: kalkki + levitys | B10: 271 | C10: Awuah ym. 2026 | D10: 10 tn/ha, kustannus 21 €/tn. | E10: Lähteessä Viherä-Aarnio ym. 2022 määrä 6 tn/ha ja kustannus 41,6 €/tn --> 2 x kalliimpi, levityskustannus mukana hinnassa?
A11: Lannoitus: mineraalilannoitus
A13: Istuttaminen
A14: Pistokkaat | B14: 1560 | C14: Awuah ym. 2026 | D14: 13000 pistokasta /ha, a´hinta 0,12 €, lähde: Awuah ym. 2026 (Neovan Karhunsuon koeviljelmä) | E14: Lähteessä Viherä-Aarnio ym. 2022: Pistokkaat (12 800 kpl + istutus) = 2406 €/ha
A15: Istutustyön hinta | B15: 425 | C15: Carbons Finland Oy 2020 | D15: Koneellinen istutus Suutarin kaksirivisellä istutuskoneilla.
A16: Alasleikkuu | B16: 46 | C16: Viherä-Aarnio ym. 2022 | D16: Alasleikkuu istutusta seuraavana vuonna, jotta paju saadaan haaroittumaan.
A18: Sadonkorjuu ja hoito
A19: Korjuukustannus ajosilppurilla | B19: 1006.4 | C19: Awuah ym. 2026 | D19: Kustannus per korjuukerta. 37 €/k-a tn, korjuu ajosilppurilla, korjuu ja haketus samalla koneella.
A20: Korjuukustannus kokorankana energiapuupuimurilla | B20: =19.7*13.6*4 -> 1071.68 | C20: Vanbeveren ym. (2017) | D20: Cut-and-bale -koneen kustannusten keskiarvo Vanbeveren ym. Artikkelista (tuoresato), laskettu tuoresato 13,6 t/ha/vuosi (kuiva-ainesadosta 6,8 t ka/ha/vuosi) 4 vuoden sadonkorjuuvälillä
A21: Korjuukustannus RisuPedolla rangoiksi | B21: 1200 | C21: Kouvolan vierailu 27.3.2025 | D21: Kouvolan vierailulta tieto, että Risupedon työtahti 1000 m2 / h = 0,1 ha / h --> 1 ha/10 h . Risupedon tuntihinnalla (saatu yrittäjältä) 120 €/h korjuukustannus 1200 €/ha
A22: Lannoitus sadonkorjuun jälkeen | B22: 762.75472 | C22: Awuah ym. 2026 ja Viherä-Aarnio ym. 2022 | D22: Lannoituskustannus per lannoituskerta. Sama kuin perustamislannoitus eli maksimi. HUOM kerro sadonkorjuun määrillä -1
A24: Lopetus
A25: Kasvuston kemiallinen lopetus + jyrsintä | B25: 1164 | C25: Viherä-Aarnio ym. 2022 | D25: Kasvuston kemiallinen tuhoaminen (glyfosaattivalmiste 6—8 I/ha), kantojen jyrsintä
A27: Muut kustannukset
A28: Maa-alueen vuokra | B28: 229.55 | C28: Awuah ym. 2026 | D28: Entisen turvetuotantoalueen vuokra
A30: Logistiikkakustannus
A31: Hakkeen siirto 20-40 km | B31: =8788.82681564246/9 -> 976.53631 | C31: Awuah ym. 2026 | D31: Kuljetuksen yksikköhinta Awuah ym. 2026 artikkelista 6,9 €/m3, satotasolla 6,8 t k-a/ha/vuosi vuodessa 9 ha:lta kasakuivaa haketta 1274 i-m3
A33: Haketuksen kustannus
A34: Haketus | B34: =2990.7027027027/9 -> 332.3003 | C34: Luhas ym. (2022) | D34: Haketuksen yksikköhinta 9,1 €/t, haketusmäärässä huomioitu, että paju kasakuivaa (25 % kosteus)
A36: Biohiililaitoksen kustannukset | B36: €/vuosi | C36: Lähde | D36: Lisätietoa | E36: Sarake1
A37: Biohiililaitteisto + lisäosat | B37: 108900 | C37: Juva (2023) | D37: BioMacon 63 kW
A38: Biohiilen automaattinen poistojärjestelmä | B38: 15000 | C38: Juva (2023) | D38: BioMacon poistojärjestelmä
A39: Biohiilen automaattinen säkitysjärjestelmä | B39: 15000 | C39: Juva (2023) | D39: BioMacon säkitysjärjestelmä
A40: Rakennus | B40: 120000 | C40: Juva (2023)
A41: Varastot / katokset + muu infra | B41: 20000 | C41: Oma arvio
A42: Oman työn kustannukset | B42: 7500 | C42: Mukaillen Vna 214/2014 | D42: Vna 240/2015:n maatalousyrittäjän oman työn arvon (15 €/h) ja koneella tehdyn työn arvon (30 €/h) perusteella arvioitu keskimääräinen kustannus 25 €/h
A43: Energiankulutus (pyrolyysilaitteisto) | B43: 3360 | C43: BioMacon (2021) | D43: Laitteiston sähkönkulutuksen ja sähkön hinnan 0,12 €/kWh perusteella
A44: Käyttö- ja ylläpitokustannukset | B44: 8367 | C44: Oma arvio | D44: 3 % investoinnin kokonaiskustannuksista. Huom! Karkea arvio, REACH, ympäristölupa, hiilenpoiston sertifioinnit ym. voivat olla prosentuaalisesti pienen mittakaavan tuotannossa korkeampiakin.
A47: Mainitut lähdeaineistot:
A48: Awuah, J., Pappinen, A., Laasasenaho, K., Hassan, M. K., Lauhanen, R., & Kuittinen, S. (2026). Evaluating the investment attractiveness and carbon credit potential of short rotation willow plantation on a cutaway peatland. Industrial Crops & Products, 240, 122567. https://doi.org/10.1016/j.indcrop.2025.122567
A49: Viherä-Aarnio, A., Jyske, T., Beuker, E., Kaseva, J., & Sarjala, T. (toim.). (2022). Pajut biokiertotaloudessa: Materiaaleja, arvoaineita, ympäristöhyötyjä: Synteesiraportti. Luonnonvara- ja biotalouden tutkimus 11/2022. Luonnonvarakeskus.
A50: Luhas, J., Marttila, M., Leppäkoski, L., Mikkilä, M., Uusitalo, V., & Linnanen, L. (2022). A financial and environmental sustainability of circular bioeconomy: A case study of short rotation coppice, biochar and greenhouse production in southern Finland. Biomass and Bioenergy, 163, 106524. https://doi.org/10.1016/j.biombioe.2022.106524
...

Sheet Lähtötiedot_tuotot
A1: Pajubiohiilituotanto, kassavirtalaskelman lähtötietoja
A3: Pyrolyysilaitteisto: | B3: BioMacon 63 kW
A5: Tuotot | B5: Yksikköhinta | C5: Yksikköä (kpl) | D5: Yhteensä | E5: Yksikkö | F5: Lisätiedot
A6: Biohiilen myynti | B6: 800 | C6: =B14 -> 56 | D6: =B6*C6 -> 44800 | E6: €/vuosi
A7: Lämpöenergian myynti | B7: 0.1 | C7: =B12*63 -> 504000 | D7: =B7*C7*0.6 -> 30240 | E7: €/vuosi | F7: Jos 60 % tuotetusta lämpöenergiasta myydään ja loput käytetään pajuhakkeen kuivaukseen
A8: Hiilikrediittien myynti | B8: 130 | C8: =3*C6 -> 168 | D8: =B8*C8 -> 21840 | E8: €/vuosi | F8: Yksi tuotettu biohiilitonni vastaa noin kolmea sidottua hiilidioksiditonnia
A11: Tuottojen laskennassa käytettyjä lähtötietoja | B11: Arvo | C11: Yksikkö | D11: Lisätiedot
A12: Pyrolyysilaitteiston käyttötunnit vuodessa | B12: 8000 | C12: h/vuosi | D12: BioMacon 63 kW, 8000 h on maksimikapasiteetti
A13: Pyrolyysilaittesiton tuottama biohiilimäärä | B13: 7 | C13: kg/h | D13: BioMacon 63 kW, laitteiston esitteestä
A14: Pyrolyysilaitteiston tuottama biohiilimäärä | B14: =B13*B12/1000 -> 56 | C14: t/vuosi
A15: Pyrolyysilaitteiston tarvitsema raaka-ainemäärä laitteiston ilmoittamassa kosteudessa | B15: 38 | C15: kg/h | D15: Määrä 20 % kosteudessa (laitteiston tiedoista)
A16: Pyrolyysilaitteiston tarvitsema raaka-ainemäärä kuiva-aineena | B16: =B15*0.8 -> 30.4 | C16: kg/h | D16: Määrä kuiva-aineena
A17: Pyrolyysilaittesiton tarvitsema raaka-ainemäärä kuiva-aineena vuodessa | B17: =B16*B12/1000 -> 243.2 | C17: t ka/vuosi | D17: Laitteiston tarvitsema raaka-ainemäärä kuiva-aineena vuodessa
A18: Pajuviljelmän hehtaarisato kuiva-aineena vuodessa | B18: 6.8 | C18: t ka/ha/v
A19: Raaka-aineen tuottamiseen tarvittava pinta-ala | B19: =B17/B18 -> 35.764706 | C19: ha
A20: Pyrolyysilaitteiston lämmöntuotantoteho | B20: 63 | C20: kW | D20: BioMacon 63 kW
