Workbook

Sheet Ohje työkirjan käyttöön
A1: OHJE KASSAVIRTALASKELMAN KÄYTTÖÖN
A3: Mitä laskelmalla voi tehdä?
A4: Kassavirtalaskelma-välilehden avulla voi arvioida suunnitellun paju–apilanurmikompostikuivikkeen tuotannon kassavirtaa ja kannattavuutta 24 vuoden tarkastelujaksolla.
A5: Laskentapohjassa on valmiina Pajuarvoketjuista uutta liiketoimintaa -hankkeessa laadittu esimerkkilaskelma liiketoimintamallista, jossa toimija viljelee pajua ja apilanurmea, kompostoi biomassat ja myy valmiin paju–apilanurmikompostin kuivikkeeksi. Laskentapohjaa voi muokata oman suunnitellun liiketoiminnan tarkasteluun.
A7: Mistä lähtötiedot löytyvät?
A8: Esimerkkilaskelmassa käytettyjä kustannus- ja tuottotietoja sekä niiden lähteitä on koottu välilehdille Lähtötiedot_kustannukset ja Lähtötiedot_tuotot. Kassavirtalaskelman kaavat hakevat tietoja näiltä välilehdiltä.
A9: Lähtötiedoissa kuvataan muun muassa pajun ja apilanurmen tuotannon kustannuksia, korjuu- ja logistiikkakustannuksia, kompostoinnin kustannuksia sekä valmiin kuivikkeen myyntimäärää ja myyntihintaa.
A11: Miten laskelmaa voi muokata?
A12: Laskelmaa voi muokata omaan suunniteltuun liiketoimintaan sopivaksi kahdella tavalla:
A13: Lähtötietoja muuttamalla: Esimerkkilaskelmassa käytettyjä kustannus- ja tuottotietoja voi muuttaa Lähtötiedot_kustannukset- ja Lähtötiedot_tuotot -välilehdillä. Kassavirtalaskelman kaavat hakevat muuttuneet tiedot näiltä välilehdiltä.
A14: Muokkaamalla kassavirtataulukkoa suoraan: Kustannus- ja tuottoeriä voi lisätä, poistaa tai muuttaa suoraan Kassavirta_paju-apilakomposti-välilehdellä omaa liiketoimintaa vastaaviksi. Huomaa, että solussa oleva kaava poistuu, jos sen päälle kirjoitetaan uusi arvo.
A15: Osa laskentapohjan soluista on suojattu, jotta NPV:n, IRR:n ja takaisinmaksuajan laskentakaavat eivät muokkaudu vahingossa. Suojauksen voi tarvittaessa poistaa Excelissä. Suojauksen salasana on Pauli.
... A31: Esimerkkilaskelman tulokset eivät sellaisenaan kuvaa yksittäisen yrityksen toteutuvan liiketoiminnan kannattavuutta. Tarkempi arviointi edellyttää tapauskohtaisia tietoja muun muassa raaka-aineiden tuotannosta, kompostointimenetelmästä ja sen kustannuksista, valmiin tuotteen ominaisuuksista sekä tavoitellusta markkinasta ja myyntihinnasta.

Sheet Kassavirta_paju-apilakomposti
A1: KASSAVIRTALASKELMA PAJU-APILANURMIKOMPOSTIKUIVIKKEEN TUOTANTO
A2: HUOM! Laskelmassa 106 ha pajuviljelmä perustetaan vaiheittain siten, että joka vuosi perustetaan 26,5 ha viljelmä ensimmäisen neljän vuoden aikana. Ensimmäisen neljän viljelyvuoden jälkeen joka vuosi korjataan sato 26,5 hehtaarilta, jolloin kasvusto on neljävuotias.
A4: Kannattavuuslaskelman lähtötiedot
A5: Diskonttokorko | B5: 0.05
A7: KASSAVIRTALASKELMAN TULOKSET
A8: NPV eli nettonykyarvo | B8: =NPV(B5,C51:Y51)+B51 -> 695361.44
A9: IRR eli sisäinen korkokanta eli tuottoprosentti | B9: =IRR(B51:Y51) -> 0.17220298
A10: Takaisinmaksuaika | B10: {=MATCH(TRUE,B59:Y59>0,0)-1} -> 9 | C10: vuotta
A13: Kassavirtalaskelmataulukko
B14: Vuosi
B15: 0 | C15: 1 | D15: 2 | E15: 3 | F15: 4 | G15: 5 | H15: 6 | I15: 7 | J15: 8 | K15: 9 | L15: 10 | M15: 11 | N15: 12 | O15: 13 | P15: 14 | Q15: 15 | R15: 16 | S15: 17 | T15: 18 | U15: 19 | V15: 20 | W15: 21 | X15: 22 | Y15: 23
A16: Kustannukset
A17: Pajulohkon perustaminen
A18: Ojitus | B18: =Lähtötiedot_kustannukset!$B$17*Lähtötiedot_kustannukset!$B$11 -> 19916.471 | C18: =Lähtötiedot_kustannukset!$B$17*Lähtötiedot_kustannukset!$B$11 -> 19916.471 | D18: =Lähtötiedot_kustannukset!$B$17*Lähtötiedot_kustannukset!$B$11 -> 19916.471 | E18: =Lähtötiedot_kustannukset!$B$17*Lähtötiedot_kustannukset!$B$11 -> 19916.471
A19: Maanmuokkaustyöt | B19: =Lähtötiedot_kustannukset!$B$18*Lähtötiedot_kustannukset!$B$11 -> 1164.7059 | C19: =Lähtötiedot_kustannukset!$B$18*Lähtötiedot_kustannukset!$B$11 -> 1164.7059 | D19: =Lähtötiedot_kustannukset!$B$18*Lähtötiedot_kustannukset!$B$11 -> 1164.7059 | E19: =Lähtötiedot_kustannukset!$B$18*Lähtötiedot_kustannukset!$B$11 -> 1164.7059
A20: Rikantorjunta, glyfosaatti + levitys | B20: =Lähtötiedot_kustannukset!$B$19*Lähtötiedot_kustannukset!$B$11 -> 3992.8235 | C20: =Lähtötiedot_kustannukset!$B$19*Lähtötiedot_kustannukset!$B$11 -> 3992.8235 | D20: =Lähtötiedot_kustannukset!$B$19*Lähtötiedot_kustannukset!$B$11 -> 3992.8235 | E20: =Lähtötiedot_kustannukset!$B$19*Lähtötiedot_kustannukset!$B$11 -> 3992.8235
A21: pH:n nosto: tuhka + kuljetus | B21: =Lähtötiedot_kustannukset!$B$20*Lähtötiedot_kustannukset!$B$11 -> 5735.2941 | C21: =Lähtötiedot_kustannukset!$B$20*Lähtötiedot_kustannukset!$B$11 -> 5735.2941 | D21: =Lähtötiedot_kustannukset!$B$20*Lähtötiedot_kustannukset!$B$11 -> 5735.2941 | E21: =Lähtötiedot_kustannukset!$B$20*Lähtötiedot_kustannukset!$B$11 -> 5735.2941
A22: Lannoitus: karjanlanta + kuljetus | C22: =Lähtötiedot_kustannukset!$B$32*Lähtötiedot_kustannukset!$B$11 -> 20190.566 | D22: =Lähtötiedot_kustannukset!$B$32*Lähtötiedot_kustannukset!$B$11 -> 20190.566 | E22: =Lähtötiedot_kustannukset!$B$32*Lähtötiedot_kustannukset!$B$11 -> 20190.566 | F22: =Lähtötiedot_kustannukset!$B$32*Lähtötiedot_kustannukset!$B$11 -> 20190.566
A23: Pajulohkon istutus
A24: Pistokkaat | B24: =Lähtötiedot_kustannukset!$B$26*Lähtötiedot_kustannukset!$B$11 -> 41294.118 | C24: =Lähtötiedot_kustannukset!$B$26*Lähtötiedot_kustannukset!$B$11 -> 41294.118 | D24: =Lähtötiedot_kustannukset!$B$26*Lähtötiedot_kustannukset!$B$11 -> 41294.118 | E24: =Lähtötiedot_kustannukset!$B$26*Lähtötiedot_kustannukset!$B$11 -> 41294.118
A25: Istutustyö | B25: =Lähtötiedot_kustannukset!$B$27*Lähtötiedot_kustannukset!$B$11 -> 11250 | C25: =Lähtötiedot_kustannukset!$B$27*Lähtötiedot_kustannukset!$B$11 -> 11250 | D25: =Lähtötiedot_kustannukset!$B$27*Lähtötiedot_kustannukset!$B$11 -> 11250 | E25: =Lähtötiedot_kustannukset!$B$27*Lähtötiedot_kustannukset!$B$11 -> 11250
A26: Alasleikkuu | C26: =Lähtötiedot_kustannukset!$B$28*Lähtötiedot_kustannukset!$B$11 -> 1217.6471 | D26: =Lähtötiedot_kustannukset!$B$28*Lähtötiedot_kustannukset!$B$11 -> 1217.6471 | E26: =Lähtötiedot_kustannukset!$B$28*Lähtötiedot_kustannukset!$B$11 -> 1217.6471 | F26: =Lähtötiedot_kustannukset!$B$28*Lähtötiedot_kustannukset!$B$11 -> 1217.6471
A27: Pajun sadonkorjuu ja hoito
A28: Korjauskustannus (korjuu suoraan hakkeeksi) | F28: =Lähtötiedot_kustannukset!$B$31*Lähtötiedot_kustannukset!$B$11 -> 26640 | G28: =Lähtötiedot_kustannukset!$B$31*Lähtötiedot_kustannukset!$B$11 -> 26640 | H28: =Lähtötiedot_kustannukset!$B$31*Lähtötiedot_kustannukset!$B$11 -> 26640 | I28: =Lähtötiedot_kustannukset!$B$31*Lähtötiedot_kustannukset!$B$11 -> 26640 | J28: =Lähtötiedot_kustannukset!$B$31*Lähtötiedot_kustannukset!$B$11 -> 26640 | K28: =Lähtötiedot_kustannukset!$B$31*Lähtötiedot_kustannukset!$B$11 -> 26640 | L28: =Lähtötiedot_kustannukset!$B$31*Lähtötiedot_kustannukset!$B$11 -> 26640 | M28: =Lähtötiedot_kustannukset!$B$31*Lähtötiedot_kustannukset!$B$11 -> 26640 | ... Y28: =Lähtötiedot_kustannukset!$B$31*Lähtötiedot_kustannukset!$B$11 -> 26640
A29: Lannoitus sadonkorjuun jälkeen (karjanlanta + kuljetus) | F29: =Lähtötiedot_kustannukset!$B$32*Lähtötiedot_kustannukset!$B$11 -> 20190.566 | G29: =Lähtötiedot_kustannukset!$B$32*Lähtötiedot_kustannukset!$B$11 -> 20190.566 | H29: =Lähtötiedot_kustannukset!$B$32*Lähtötiedot_kustannukset!$B$11 -> 20190.566 | I29: =Lähtötiedot_kustannukset!$B$32*Lähtötiedot_kustannukset!$B$11 -> 20190.566 | J29: =Lähtötiedot_kustannukset!$B$32*Lähtötiedot_kustannukset!$B$11 -> 20190.566 | K29: =Lähtötiedot_kustannukset!$B$32*Lähtötiedot_kustannukset!$B$11 -> 20190.566 | L29: =Lähtötiedot_kustannukset!$B$32*Lähtötiedot_kustannukset!$B$11 -> 20190.566 | M29: =Lähtötiedot_kustannukset!$B$32*Lähtötiedot_kustannukset!$B$11 -> 20190.566 | ... X29: =Lähtötiedot_kustannukset!$B$32*Lähtötiedot_kustannukset!$B$11 -> 20190.566
A30: Pajukasvuston lopetus
A31: Kasvuston kemiallinen lopetus + jyrsintä | V31: =Lähtötiedot_kustannukset!$B$35*Lähtötiedot_kustannukset!$B$11 -> 30811.765 | W31: =Lähtötiedot_kustannukset!$B$35*Lähtötiedot_kustannukset!$B$11 -> 30811.765 | X31: =Lähtötiedot_kustannukset!$B$35*Lähtötiedot_kustannukset!$B$11 -> 30811.765 | Y31: =Lähtötiedot_kustannukset!$B$35*Lähtötiedot_kustannukset!$B$11 -> 30811.765
A32: Pajuviljelmän vuokrakustannukset
A33: Maa-alueen kustannukset, suo: vuokra | B33: =Lähtötiedot_kustannukset!$B$38*Lähtötiedot_kustannukset!$B$11 -> 6076.3235 | C33: =Lähtötiedot_kustannukset!$B$38*(Lähtötiedot_kustannukset!B11*2) -> 12152.647 | D33: =Lähtötiedot_kustannukset!$B$38*(Lähtötiedot_kustannukset!B11*3) -> 18228.971 | E33: =Lähtötiedot_kustannukset!$B$38*Lähtötiedot_kustannukset!$B$10 -> 24305.294 | F33: =Lähtötiedot_kustannukset!$B$38*Lähtötiedot_kustannukset!$B$10 -> 24305.294 | G33: =Lähtötiedot_kustannukset!$B$38*Lähtötiedot_kustannukset!$B$10 -> 24305.294 | H33: =Lähtötiedot_kustannukset!$B$38*Lähtötiedot_kustannukset!$B$10 -> 24305.294 | I33: =Lähtötiedot_kustannukset!$B$38*Lähtötiedot_kustannukset!$B$10 -> 24305.294 | J33: =Lähtötiedot_kustannukset!$B$38*Lähtötiedot_kustannukset!$B$10 -> 24305.294 | K33: =Lähtötiedot_kustannukset!$B$38*Lähtötiedot_kustannukset!$B$10 -> 24305.294 | L33: =Lähtötiedot_kustannukset!$B$38*Lähtötiedot_kustannukset!$B$10 -> 24305.294 | ... V33: =Lähtötiedot_kustannukset!$B$38*Lähtötiedot_kustannukset!$B$10 -> 24305.294 | W33: =Lähtötiedot_kustannukset!$B$38*(Lähtötiedot_kustannukset!B11*3) -> 18228.971 | X33: =Lähtötiedot_kustannukset!$B$38*(Lähtötiedot_kustannukset!B11*2) -> 12152.647 | Y33: =Lähtötiedot_kustannukset!$B$38*Lähtötiedot_kustannukset!B11 -> 6076.3235
A34: Apilanurmen tuotantokustannus (maataloustuki huomioitu)
A35: Apilanurmen tuotantokustannus määrälle 325 000 kg ka/vuosi | F35: =Lähtötiedot_kustannukset!$B$44 -> 65000 | G35: =Lähtötiedot_kustannukset!$B$44 -> 65000 | H35: =Lähtötiedot_kustannukset!$B$44 -> 65000 | I35: =Lähtötiedot_kustannukset!$B$44 -> 65000 | J35: =Lähtötiedot_kustannukset!$B$44 -> 65000 | K35: =Lähtötiedot_kustannukset!$B$44 -> 65000 | L35: =Lähtötiedot_kustannukset!$B$44 -> 65000 | M35: =Lähtötiedot_kustannukset!$B$44 -> 65000 | ... Y35: =Lähtötiedot_kustannukset!$B$44 -> 65000
A36: Kompostointi
A37: Kompostinnin karkea kustannus | F37: =Lähtötiedot_kustannukset!$B$45 -> 50000 | G37: =Lähtötiedot_kustannukset!$B$45 -> 50000 | H37: =Lähtötiedot_kustannukset!$B$45 -> 50000 | I37: =Lähtötiedot_kustannukset!$B$45 -> 50000 | J37: =Lähtötiedot_kustannukset!$B$45 -> 50000 | K37: =Lähtötiedot_kustannukset!$B$45 -> 50000 | L37: =Lähtötiedot_kustannukset!$B$45 -> 50000 | M37: =Lähtötiedot_kustannukset!$B$45 -> 50000 | ... Y37: =Lähtötiedot_kustannukset!$B$45 -> 50000
A38: Kompostikentän (1 ha) vuosivuokra | F38: =Lähtötiedot_kustannukset!$B$46 -> 2500 | G38: =Lähtötiedot_kustannukset!$B$46 -> 2500 | H38: =Lähtötiedot_kustannukset!$B$46 -> 2500 | I38: =Lähtötiedot_kustannukset!$B$46 -> 2500 | J38: =Lähtötiedot_kustannukset!$B$46 -> 2500 | K38: =Lähtötiedot_kustannukset!$B$46 -> 2500 | L38: =Lähtötiedot_kustannukset!$B$46 -> 2500 | M38: =Lähtötiedot_kustannukset!$B$46 -> 2500 | ... Y38: =Lähtötiedot_kustannukset!$B$46 -> 2500
A39: Logistiikka
A40: Pajuhakkeen lähisiirrot pellolta kompostikentälle (< 5 km) | F40: =Lähtötiedot_kustannukset!$B$41 -> 3500 | G40: =Lähtötiedot_kustannukset!$B$41 -> 3500 | H40: =Lähtötiedot_kustannukset!$B$41 -> 3500 | I40: =Lähtötiedot_kustannukset!$B$41 -> 3500 | J40: =Lähtötiedot_kustannukset!$B$41 -> 3500 | K40: =Lähtötiedot_kustannukset!$B$41 -> 3500 | L40: =Lähtötiedot_kustannukset!$B$41 -> 3500 | M40: =Lähtötiedot_kustannukset!$B$41 -> 3500 | ... Y40: =Lähtötiedot_kustannukset!$B$41 -> 3500
A42: Tuotot
A43: Kuivikkeen (pajuapilakompostin) myynti | F43: =Lähtötiedot_tuotot!$D$4 -> 300000 | G43: =Lähtötiedot_tuotot!$D$4 -> 300000 | H43: =Lähtötiedot_tuotot!$D$4 -> 300000 | I43: =Lähtötiedot_tuotot!$D$4 -> 300000 | J43: =Lähtötiedot_tuotot!$D$4 -> 300000 | K43: =Lähtötiedot_tuotot!$D$4 -> 300000 | L43: =Lähtötiedot_tuotot!$D$4 -> 300000 | M43: =Lähtötiedot_tuotot!$D$4 -> 300000 | ... Y43: =Lähtötiedot_tuotot!$D$4 -> 300000 | Z43: =SUM(B43:Y43) -> 6000000 | AA43: Kaikki tulot yhteensä
A47: KASSAVIRTA
A48: Nimellinen (ei korkoa):
A49: Vuoden menot yht. | B49: =SUM(B16:B41) -> 89429.735 | C49: =SUM(C16:C41) -> 116914.27 | D49: =SUM(D16:D41) -> 122990.6 | E49: =SUM(E16:E41) -> 129066.92 | F49: =SUM(F16:F41) -> 213544.07 | G49: =SUM(G16:G41) -> 192135.86 | H49: =SUM(H16:H41) -> 192135.86 | I49: =SUM(I16:I41) -> 192135.86 | ... Y49: =SUM(Y16:Y41) -> 184528.09 | Z49: =SUM(B49:Y49) -> 4389125.5 | AA49: Kaikki kustannukset yhteensä
A50: Vuoden tulot yht. | B50: =SUM(B42:B44) -> 0 | C50: =SUM(C42:C44) -> 0 | D50: =SUM(D42:D44) -> 0 | E50: =SUM(E42:E44) -> 0 | F50: =SUM(F42:F44) -> 300000 | G50: =SUM(G42:G44) -> 300000 | H50: =SUM(H42:H44) -> 300000 | I50: =SUM(I42:I44) -> 300000 | ... Y50: =SUM(Y42:Y44) -> 300000 | Z50: =SUM(B50:Y50) -> 6000000 | AA50: Kaikki tulot yhteensä
A51: Nettokassavirta | B51: =SUM(B42:B44)-SUM(B16:B41) -> -89429.735 | C51: =SUM(C42:C44)-SUM(C16:C41) -> -116914.27 | D51: =SUM(D42:D44)-SUM(D16:D41) -> -122990.6 | E51: =SUM(E42:E44)-SUM(E16:E41) -> -129066.92 | F51: =SUM(F42:F44)-SUM(F16:F41) -> 86455.927 | G51: =SUM(G42:G44)-SUM(G16:G41) -> 107864.14 | H51: =SUM(H42:H44)-SUM(H16:H41) -> 107864.14 | I51: =SUM(I42:I44)-SUM(I16:I41) -> 107864.14 | ... Y51: =SUM(Y42:Y44)-SUM(Y16:Y41) -> 115471.91 | Z51: =SUM(B51:Y51) -> 1610874.5 | AA51: nettokassavirta yht.
A52: Kumulatiivinen nettokassavirta | B52: =SUM(B43:B44)-SUM(B18:B40) -> -89429.735 | C52: =B52+(SUM(C42:C44)-SUM(C16:C41)) -> -206344.01 | D52: =C52+(SUM(D42:D44)-SUM(D16:D41)) -> -329334.6 | E52: =D52+(SUM(E42:E44)-SUM(E16:E41)) -> -458401.52 | F52: =E52+(SUM(F42:F44)-SUM(F16:F41)) -> -371945.59 | G52: =F52+(SUM(G42:G44)-SUM(G16:G41)) -> -264081.46 | H52: =G52+(SUM(H42:H44)-SUM(H16:H41)) -> -156217.32 | I52: =H52+(SUM(I42:I44)-SUM(I16:I41)) -> -48353.175 | J52: =I52+(SUM(J42:J44)-SUM(J16:J41)) -> 59510.964 | ... Y52: =X52+(SUM(Y42:Y44)-SUM(Y16:Y41)) -> 1610874.5
A53: Takaisinmaksuajan etsintä | B53: =IF(B52>0,"+","") | C53: =IF(C52>0,"+","") | D53: =IF(D52>0,"+","") | E53: =IF(E52>0,"+","") | F53: =IF(F52>0,"+","") | G53: =IF(G52>0,"+","") | H53: =IF(H52>0,"+","") | I53: =IF(I52>0,"+","") | ... Y53: =IF(Y52>0,"+","") -> +
A54: Diskontattu:
A55: Vuoden diskontatut menot | B55: =B49/(1+$B$5)^B15 -> 89429.735 | C55: =C49/(1+$B$5)^C15 -> 111346.93 | D55: =D49/(1+$B$5)^D15 -> 111556.1 | E55: =E49/(1+$B$5)^E15 -> 111492.86 | F55: =F49/(1+$B$5)^F15 -> 175683.24 | G55: =G49/(1+$B$5)^G15 -> 150543.47 | H55: =H49/(1+$B$5)^H15 -> 143374.74 | I55: =I49/(1+$B$5)^I15 -> 136547.37 | ... Y55: =Y49/(1+$B$5)^Y15 -> 60077.051 | Z55: =SUM(B55:Y55) -> 2534236.3 | AA55: diskontatut kustannukset yht.
A56: Vuoden diskontatut tulot yht. | B56: =B50/(1+$B$5)^B15 -> 0 | C56: =C50/(1+$B$5)^C15 -> 0 | D56: =D50/(1+$B$5)^D15 -> 0 | E56: =E50/(1+$B$5)^E15 -> 0 | F56: =F50/(1+$B$5)^F15 -> 246810.74 | G56: =G50/(1+$B$5)^G15 -> 235057.85 | H56: =H50/(1+$B$5)^H15 -> 223864.62 | I56: =I50/(1+$B$5)^I15 -> 213204.4 | ... Y56: =Y50/(1+$B$5)^Y15 -> 97671.392 | Z56: =SUM(B56:Y56) -> 3229597.8 | AA56: diskontatut tulot yht.
A58: Diskontattu nettokassavirta | B58: =B51/(1+$B$5)^B15 -> -89429.735 | C58: =C51/(1+$B$5)^C15 -> -111346.93 | D58: =D51/(1+$B$5)^D15 -> -111556.1 | E58: =E51/(1+$B$5)^E15 -> -111492.86 | F58: =F51/(1+$B$5)^F15 -> 71127.505 | G58: =G51/(1+$B$5)^G15 -> 84514.376 | H58: =H51/(1+$B$5)^H15 -> 80489.882 | I58: =I51/(1+$B$5)^I15 -> 76657.03 | ... Y58: =Y51/(1+$B$5)^Y15 -> 37594.341 | Z58: =SUM(B58:Y58) -> 695361.44 | AA58: diskontattu nettokassavirta eli nettonykyarvo
A59: Kumulatiivinen diskontattu kassavirta | B59: =B58 -> -89429.735 | C59: =B59+C58 -> -200776.66 | D59: =C59+D58 -> -312332.76 | E59: =D59+E58 -> -423825.61 | F59: =E59+F58 -> -352698.11 | G59: =F59+G58 -> -268183.73 | H59: =G59+H58 -> -187693.85 | I59: =H59+I58 -> -111036.82 | J59: =I59+J58 -> -38030.125 | ... Y59: =X59+Y58 -> 695361.44
A60: Diskontattu takaisinmaksuaika etsintä | B60: =IF(B59>0,"+","") | C60: =IF(C59>0,"+","") | D60: =IF(D59>0,"+","") | E60: =IF(E59>0,"+","") | F60: =IF(F59>0,"+","") | G60: =IF(G59>0,"+","") | H60: =IF(H59>0,"+","") | I60: =IF(I59>0,"+","") | ... Y60: =IF(Y59>0,"+","") -> +
AF63: 0.1283 | AG63: sisäinen korkokanta, kun NNA = 0, manuaalisesti haarukoimalla
AG64: Yritysmaailmassa odotettu IRR on 16 %

Sheet Lähtötiedot_kustannukset
A1: PERUSLASKELMASSA KÄYTETTYJÄ LÄHTÖTIETOJA
A3: Tarvittavan pajunviljelyalan laskenta:
A4: Lähtötieto | B4: Arvo | C4: Yksikkö
A5: Tuotettava paju-apilakompostikuivikkeen määrä irtokuutioina | B5: 5000 | C5: i-m3/vuosi
A6: Pajun hehtaarisato vuodessa kuiva-ainetonneina | B6: 6.8 | C6: t k-a/ha/vuosi
A7: Pajun kuivatuoretiheys | B7: 0.36 | C7: t k-a/k-m3
A8: Pajun hehtaarisato vuodessa kiintokuutioina | B8: =B6/B7 -> 18.888889 | C8: k-m3/ha/vuosi
A9: Pajun hehtaarisato vuodessa irtokuutioina (hakkeena) | B9: =B8*2.5 -> 47.222222 | C9: i-m3/ha/vuosi
A10: Viljelyala, joka tuottaa 100 tilan tarvitseman kestokuivikemäärän | B10: =B5/B9 -> 105.88235 | C10: ha
A11: Vuosittain korjattava viljelyala (4 vuoden korjuukierto) | B11: =B10/4 -> 26.470588 | C11: ha
A12: Tuotetun pajuhakkeen määrä kuiva-ainetonneissa | B12: =B11*B6 -> 180 | C12: t k-a/ha/vuosi
A14: Paju-apilakompostin tuotantokustannukset
A15: Työvaihe | B15: Kustannus | C15: Yksikkö | D15: Lähde | E15: Lisätietoa | F15: Vaihtoehtoisia kustannustietoja
A16: Viljelysmaan perustaminen
A17: Ojitus + ojarumpu | B17: 752.4 | C17: €/ha | D17: Awuah ym. 2026 | E17: Neovan Karhunsuon koeviljelmä, mukana tierumpu 57 € (kappalehinta) sekä ojitustyö 695 €/ha
A18: Maanmuokkaustyöt | B18: 44 | C18: €/ha | D18: Viherä-Aarnio ym. 2022 | E18: Pelkkä äestys | F18: Awuah ym. 2026: soil leveling 91 €/ha
A19: Rikantorjunta, glyfosaatti + levitys | B19: 150.84 | C19: €/ha | D19: Awuah ym. 2026 | E19: Glyfosaattia 6 L/ha, hinta 21,49 €/L, levitys 22€/ha. | F19: Viherä-Aarnio ym. 2022 lähteessä paljon halvempi.
A20: pH:n nosto: tuhka (vaihtoehtoinen) + kuljetus | B20: 216.66667 | C20: €/ha | D20: Suutari 2020 | E20: Tuhka 6 tn/ha, 25 €/tn. + levityskustannus: 100€/ha / 1,5 ha/h = 67 €/ha | F20: Lähteessä Viherä-Aarnio ym. 2022 sekä Awuah ym. 2026 paljon kalliimpi: (Viherä-Aarnio ym. 2022: 370 €/ha levitysmäärällä 5 t/ha
A21: Lannoitus: karjanlanta + kuljetus | B21: 762.75472 | C21: €/ha | D21: Awuah ym. 2026 ja Viherä-Aarnio ym. 2022 | E21: Lietelannan hinta 10 €/tn (Awuah ym. 2026), määrä 30 t/ha (Suutari 2020, Kurki 2016). Kuljetus + levitys 442 €/ha 10 km päähän. Levitys multaavalla vaunulla.
A22: pH:n nosto: kalkki + levitys | B22: 271 | C22: €/ha | D22: Awuah ym. 2026 | E22: 10 tn/ha, kustannus 21 €/tn. | F22: Lähteessä Viherä-Aarnio ym. 2022 määrä 6 tn/ha ja kustannus 41,6 €/tn --> 2 x kalliimpi, levityskustannus mukana hinnassa?
A23: Lannoitus: mineraalilannoitus
A25: Istuttaminen
A26: Pistokkaat | B26: 1560 | C26: €/ha | D26: Awuah ym. 2026 | E26: 13000 pistokasta /ha, a´hinta 0,12 €, lähde: Awuah ym. 2026 (Neovan Karhunsuon koeviljelmä) | F26: Lähteessä Viherä-Aarnio ym. 2022: Pistokkaat (12 800 kpl + istutus) = 2406 €/ha
A27: Istutustyön hinta | B27: 425 | C27: €/ha | D27: Suutari 2020 | E27: Koneellinen istutus Suutarin kaksirivisellä istutuskoneilla.
A28: Alasleikkuu | B28: 46 | C28: €/ha | D28: Viherä-Aarnio ym. 2022 | E28: Alasleikkuu istutusta seuraavana vuonna, jotta paju saadaan haaroittumaan.
A30: Sadonkorjuu ja hoito
A31: Korjuukustannus ajosilppurilla | B31: 1006.4 | C31: €/ha/korjuu | D31: Awuah ym. 2026 | E31: Laskettu arvioidulla hehtaarisadolla korjuukustannuksesta 37 €/k-a tn.
A32: Lannoitus sadonkorjuun jälkeen | B32: 762.75472 | C32: €/ha | D32: Awuah ym. 2026 ja Viherä-Aarnio ym. 2022 | E32: Lannoituskustannus per lannoituskerta. Sama kuin perustamislannoitus eli maksimi. HUOM kerro sadonkorjuun määrillä -1
A34: Lopetus
A35: Kasvuston kemiallinen lopetus + jyrsintä | B35: 1164 | C35: €/ha | D35: Viherä-Aarnio ym. 2022 | E35: Kasvuston kemiallinen tuhoaminen (glyfosaattivalmiste 6—8 I/ha), kantojen jyrsintä
A37: Muut kustannukset
A38: Maa-alueen vuokra | B38: 229.55 | C38: €/ha/vuosi | D38: Awuah ym. 2026 | E38: Entisen turvetuotantoalueen vuokra
A40: Logistiikka
A41: Pajuhakkeen siirto kompostikentälle (n. 5 km päähän) | B41: 3500 | C41: €/vuosi | D41: Oma arvio / ChatGPT / Lätti ym. (2014) | E41: Perustuu traktorikuormien määrään ja traktorityön tuntikustannukseen 65 €/h
A43: Kompostituotteen muut kustannukset
A44: Nurmen tuotantokustannus | B44: =0.2*325000 -> 65000 | C44: €/vuosi | D44: Korhonen (2025) | E44: Säilörehun tuotantokustannus maataloustuki huomioiden 0,2 €/kg k-a. Nurmen tiheydella 260 kg/i-m3 ja kuiva-ainepitoisuudella 25 % kuiva-ainetta tarvitaan 325 000 kg vuodessa.
A45: Kompostoinnin kustannus | B45: =5*10000 -> 50000 | C45: €/vuosi | D45: Oksala ym. (2018) | E45: Kompostoinnin kustannus 5 €/i-m³ kompostoitavaa materiaalia – hyvin karkea arvio. HSY:n 10 €/t kompostointikustannus vastaa paju–apilaseoksen arvioidulla tiheydellä noin 4,5–5,5 €/i-m³.
A46: Kompostikentän vuokra | B46: 2500 | C46: €/vuosi | D46: Oma arvio | E46: Hehtaarin kompostikentän vuokra. Teollisuustonttien vuokrat n. 5 % tontin arvosta, teollisuustontin neliöhinnaksi pienemmillä paikkakunnilla Satakunnassa oletettu tiedonhaun perusteella 5 €/ha.
A50: Mainitut lähdeaineistot:
A51: Awuah, J., Pappinen, A., Laasasenaho, K., Hassan, M. K., Lauhanen, R., & Kuittinen, S. (2026). Evaluating the investment attractiveness and carbon credit potential of short rotation willow plantation on a cutaway peatland. Industrial Crops & Products, 240, 122567. https://doi.org/10.1016/j.indcrop.2025.122567
A52: Viherä-Aarnio, A., Jyske, T., Beuker, E., Kaseva, J., & Sarjala, T. (toim.). (2022). Pajut biokiertotaloudessa: Materiaaleja, arvoaineita, ympäristöhyötyjä: Synteesiraportti. Luonnonvara- ja biotalouden tutkimus 11/2022. Luonnonvarakeskus.
A53: Luhas, J., Marttila, M., Leppäkoski, L., Mikkilä, M., Uusitalo, V., & Linnanen, L. (2022). A financial and environmental sustainability of circular bioeconomy: A case study of short rotation coppice, biochar and greenhouse production in southern Finland. Biomass and Bioenergy, 163, 106524. https://doi.org/10.1016/j.biombioe.2022.106524
A54: Carbons Finland Oy. (2020). Pajujen kasvatusohjeet: Kesä 2020. https://carbons.fi/wp-content/uploads/2020/11/Tuotekortti-Pajun-kasvatus-0720.pdf
A55: Oksala, J., Havukainen, J., & Rantala, T. (2018). Ongelmasta resurssiksi: Lannan hyödyntämisen tekniikkaopas talleille (LUT Scientific and Expertise Publications, Tutkimusraportit – Research Reports No. 76). Lappeenrannan teknillinen yliopisto. https://urn.fi/URN:ISBN:978-952-335-206-3
A56: Korhonen, I. (2025). Ruokinnan tunnusluvut vuodelta 2024 [PowerPoint-esitys]. ProAgria Keskusten Liitto. https://www.proagria.fi/uploads/ProAgria/Tiedostot/Ruokinnan_tunnusluvut_vuodelta_2024.pdf
A57: Lätti, M., Tuure, V.-M., Eskelinen, P., & Räisänen, J. (2014). Säilörehunkorjuu laajentuvalla karjatilalla. TTS:n tiedote: Maataloustyö ja tuottavuus, 4/2014 (655). Työtehoseura.
R82: =Lähtötiedot_kustannukset!B18 -> 44

Sheet Lähtötiedot_tuotot
A1: PERUSLASKELMASSA KÄYTETTYJÄ LÄHTÖTIETOJA
A3: Tuotot | B3: Yksikköhinta | C3: Yksikköä (kpl) | D3: Yhteensä | E3: Yksikkö
A4: Pajuapilakompostin tuotto | B4: 60 | C4: 5000 | D4: =B4*C4 -> 300000 | E4: €/vuosi
A6: Pajukompostikuivikkeen myyntihinta: 60 €/i-m³ (NyVraan kuiviketuotteen karkea bulk-hinta, tieto haettu 27.8.2026): | C6: https://nyvraa.dk/media/3mrjxkbx/price-list-zoo-nl.pdf
A7: Pajukompostikuivikkeen myyntimäärä: 5 000 i-m³/vuosi
A8: Vuosittainen myyntituotto: noin 300 000 €/vuosi
